BEGIN:VCALENDAR
VERSION:2.0
PRODID:-//Sportwelt - ECPv6.12.0.1//NONSGML v1.0//EN
CALSCALE:GREGORIAN
METHOD:PUBLISH
X-WR-CALNAME:Sportwelt
X-ORIGINAL-URL:https://www.sportwelt-rsb.de
X-WR-CALDESC:Veranstaltungen für Sportwelt
REFRESH-INTERVAL;VALUE=DURATION:PT1H
X-Robots-Tag:noindex
X-PUBLISHED-TTL:PT1H
BEGIN:VTIMEZONE
TZID:Europe/Berlin
BEGIN:DAYLIGHT
TZOFFSETFROM:+0100
TZOFFSETTO:+0200
TZNAME:CEST
DTSTART:20250330T010000
END:DAYLIGHT
BEGIN:STANDARD
TZOFFSETFROM:+0200
TZOFFSETTO:+0100
TZNAME:CET
DTSTART:20251026T010000
END:STANDARD
END:VTIMEZONE
BEGIN:VEVENT
DTSTART;TZID=Europe/Berlin:20250721T090000
DTEND;TZID=Europe/Berlin:20250725T100000
DTSTAMP:20260421T031808
CREATED:20250624T100037Z
LAST-MODIFIED:20250729T103536Z
UID:10000282-1753088400-1753437600@www.sportwelt-rsb.de
SUMMARY:Yoga Mobility
DESCRIPTION:Kursleitung: Ulrike Wolff
URL:https://www.sportwelt-rsb.de/event/yoga-mobility-2/2025-07-21/
LOCATION:Grube-Adolf-Park Merkstein\, Grube-Adolf-Park Merkstein\, Herzogenrath\, 52134
CATEGORIES:Sport im Park – Herzogenrath
ATTACH;FMTTYPE=image/jpeg:https://www.sportwelt-rsb.de/wp-content/uploads/2025/05/woman-doing-stretching-exercises.jpg
END:VEVENT
BEGIN:VEVENT
DTSTART;TZID=Europe/Berlin:20250716T181500
DTEND;TZID=Europe/Berlin:20250727T191500
DTSTAMP:20260421T031808
CREATED:20250527T105817Z
LAST-MODIFIED:20250729T094827Z
UID:10000287-1752689700-1753643700@www.sportwelt-rsb.de
SUMMARY:Pilates am Abend - Wertvolle Wirkung
DESCRIPTION:Kursleitung: Birgit Offermanns
URL:https://www.sportwelt-rsb.de/event/pilates-am-abend-wertvolle-wirkung/2025-07-16/
LOCATION:Grube-Adolf-Park Merkstein\, Grube-Adolf-Park Merkstein\, Herzogenrath\, 52134
CATEGORIES:Sport im Park – Herzogenrath
ATTACH;FMTTYPE=image/jpeg:https://www.sportwelt-rsb.de/wp-content/uploads/2025/05/front-view-women-meditating-nature.jpg
END:VEVENT
BEGIN:VEVENT
DTSTART;TZID=Europe/Berlin:20250714T090000
DTEND;TZID=Europe/Berlin:20250718T100000
DTSTAMP:20260421T031808
CREATED:20250624T100037Z
LAST-MODIFIED:20250729T103536Z
UID:10000281-1752483600-1752832800@www.sportwelt-rsb.de
SUMMARY:Yoga Mobility
DESCRIPTION:Kursleitung: Ulrike Wolff
URL:https://www.sportwelt-rsb.de/event/yoga-mobility-2/2025-07-14/
LOCATION:Grube-Adolf-Park Merkstein\, Grube-Adolf-Park Merkstein\, Herzogenrath\, 52134
CATEGORIES:Sport im Park – Herzogenrath
ATTACH;FMTTYPE=image/jpeg:https://www.sportwelt-rsb.de/wp-content/uploads/2025/05/woman-doing-stretching-exercises.jpg
END:VEVENT
BEGIN:VEVENT
DTSTART;TZID=Europe/Berlin:20250709T181500
DTEND;TZID=Europe/Berlin:20250720T191500
DTSTAMP:20260421T031808
CREATED:20250527T105817Z
LAST-MODIFIED:20250729T094827Z
UID:10000286-1752084900-1753038900@www.sportwelt-rsb.de
SUMMARY:Pilates am Abend - Wertvolle Wirkung
DESCRIPTION:Kursleitung: Birgit Offermanns
URL:https://www.sportwelt-rsb.de/event/pilates-am-abend-wertvolle-wirkung/2025-07-09/
LOCATION:Grube-Adolf-Park Merkstein\, Grube-Adolf-Park Merkstein\, Herzogenrath\, 52134
CATEGORIES:Sport im Park – Herzogenrath
ATTACH;FMTTYPE=image/jpeg:https://www.sportwelt-rsb.de/wp-content/uploads/2025/05/front-view-women-meditating-nature.jpg
END:VEVENT
BEGIN:VEVENT
DTSTART;TZID=Europe/Berlin:20250707T103000
DTEND;TZID=Europe/Berlin:20250721T113000
DTSTAMP:20260421T031808
CREATED:20250527T105209Z
LAST-MODIFIED:20250702T142129Z
UID:10000283-1751884200-1753097400@www.sportwelt-rsb.de
SUMMARY:Pilates - Frisch und energievoll in den Tag
DESCRIPTION:Kursleitung: Birgit Offermanns
URL:https://www.sportwelt-rsb.de/event/pilates-frisch-und-energievoll-in-den-tag/2025-07-07/
LOCATION:Grube-Adolf-Park Merkstein\, Grube-Adolf-Park Merkstein\, Herzogenrath\, 52134
CATEGORIES:Sport im Park – Herzogenrath
ATTACH;FMTTYPE=image/jpeg:https://www.sportwelt-rsb.de/wp-content/uploads/2025/05/young-sportive-couple-doing-yoga-fitness-people-summer-park.jpg
END:VEVENT
BEGIN:VEVENT
DTSTART;TZID=Europe/Berlin:20250707T090000
DTEND;TZID=Europe/Berlin:20250711T100000
DTSTAMP:20260421T031808
CREATED:20250624T100037Z
LAST-MODIFIED:20250729T103536Z
UID:10000369-1751878800-1752228000@www.sportwelt-rsb.de
SUMMARY:Yoga Mobility
DESCRIPTION:Kursleitung: Ulrike Wolff
URL:https://www.sportwelt-rsb.de/event/yoga-mobility-2/2025-07-07/
LOCATION:Grube-Adolf-Park Merkstein\, Grube-Adolf-Park Merkstein\, Herzogenrath\, 52134
CATEGORIES:Sport im Park – Herzogenrath
ATTACH;FMTTYPE=image/jpeg:https://www.sportwelt-rsb.de/wp-content/uploads/2025/05/woman-doing-stretching-exercises.jpg
END:VEVENT
END:VCALENDAR