BEGIN:VCALENDAR
VERSION:2.0
PRODID:-//Sportwelt - ECPv6.12.0.1//NONSGML v1.0//EN
CALSCALE:GREGORIAN
METHOD:PUBLISH
X-WR-CALNAME:Sportwelt
X-ORIGINAL-URL:https://www.sportwelt-rsb.de
X-WR-CALDESC:Veranstaltungen für Sportwelt
REFRESH-INTERVAL;VALUE=DURATION:PT1H
X-Robots-Tag:noindex
X-PUBLISHED-TTL:PT1H
BEGIN:VTIMEZONE
TZID:Europe/Berlin
BEGIN:DAYLIGHT
TZOFFSETFROM:+0100
TZOFFSETTO:+0200
TZNAME:CEST
DTSTART:20250330T010000
END:DAYLIGHT
BEGIN:STANDARD
TZOFFSETFROM:+0200
TZOFFSETTO:+0100
TZNAME:CET
DTSTART:20251026T010000
END:STANDARD
END:VTIMEZONE
BEGIN:VEVENT
DTSTART;TZID=Europe/Berlin:20250727T100000
DTEND;TZID=Europe/Berlin:20250727T130000
DTSTAMP:20260421T010111
CREATED:20250512T093028Z
LAST-MODIFIED:20250519T100337Z
UID:10000133-1753610400-1753621200@www.sportwelt-rsb.de
SUMMARY:Boule
DESCRIPTION:
URL:https://www.sportwelt-rsb.de/event/boule-2/2025-07-27/
LOCATION:Grillhütte Dürwiß\, Am Bongert 996\, Eschweiler\, 52249
CATEGORIES:Sport im Park – Eschweiler
ATTACH;FMTTYPE=image/jpeg:https://www.sportwelt-rsb.de/wp-content/uploads/2025/05/caroline-hernandez-2MGIwPHEFyY-unsplash.jpg
END:VEVENT
BEGIN:VEVENT
DTSTART;TZID=Europe/Berlin:20250723T140000
DTEND;TZID=Europe/Berlin:20250723T170000
DTSTAMP:20260421T010111
CREATED:20250512T092851Z
LAST-MODIFIED:20250612T081550Z
UID:10000121-1753279200-1753290000@www.sportwelt-rsb.de
SUMMARY:Boule
DESCRIPTION:Wo: Grillhütte Dürwiss\, Am Bongert 996 in Eschweiler
URL:https://www.sportwelt-rsb.de/event/boule/2025-07-23/
LOCATION:Grillhütte Dürwiß\, Am Bongert 996\, Eschweiler\, 52249
CATEGORIES:Sport im Park – Eschweiler
ATTACH;FMTTYPE=image/jpeg:https://www.sportwelt-rsb.de/wp-content/uploads/2025/05/caroline-hernandez-2MGIwPHEFyY-unsplash-1.jpg
END:VEVENT
BEGIN:VEVENT
DTSTART;TZID=Europe/Berlin:20250721T140000
DTEND;TZID=Europe/Berlin:20250721T170000
DTSTAMP:20260421T010111
CREATED:20250512T092851Z
LAST-MODIFIED:20250612T081550Z
UID:10000120-1753106400-1753117200@www.sportwelt-rsb.de
SUMMARY:Boule
DESCRIPTION:Wo: Grillhütte Dürwiss\, Am Bongert 996 in Eschweiler
URL:https://www.sportwelt-rsb.de/event/boule/2025-07-21/
LOCATION:Grillhütte Dürwiß\, Am Bongert 996\, Eschweiler\, 52249
CATEGORIES:Sport im Park – Eschweiler
ATTACH;FMTTYPE=image/jpeg:https://www.sportwelt-rsb.de/wp-content/uploads/2025/05/caroline-hernandez-2MGIwPHEFyY-unsplash-1.jpg
END:VEVENT
BEGIN:VEVENT
DTSTART;TZID=Europe/Berlin:20250720T100000
DTEND;TZID=Europe/Berlin:20250720T130000
DTSTAMP:20260421T010111
CREATED:20250512T093028Z
LAST-MODIFIED:20250519T100337Z
UID:10000132-1753005600-1753016400@www.sportwelt-rsb.de
SUMMARY:Boule
DESCRIPTION:
URL:https://www.sportwelt-rsb.de/event/boule-2/2025-07-20/
LOCATION:Grillhütte Dürwiß\, Am Bongert 996\, Eschweiler\, 52249
CATEGORIES:Sport im Park – Eschweiler
ATTACH;FMTTYPE=image/jpeg:https://www.sportwelt-rsb.de/wp-content/uploads/2025/05/caroline-hernandez-2MGIwPHEFyY-unsplash.jpg
END:VEVENT
BEGIN:VEVENT
DTSTART;TZID=Europe/Berlin:20250716T140000
DTEND;TZID=Europe/Berlin:20250716T170000
DTSTAMP:20260421T010111
CREATED:20250512T092851Z
LAST-MODIFIED:20250612T081550Z
UID:10000119-1752674400-1752685200@www.sportwelt-rsb.de
SUMMARY:Boule
DESCRIPTION:Wo: Grillhütte Dürwiss\, Am Bongert 996 in Eschweiler
URL:https://www.sportwelt-rsb.de/event/boule/2025-07-16/
LOCATION:Grillhütte Dürwiß\, Am Bongert 996\, Eschweiler\, 52249
CATEGORIES:Sport im Park – Eschweiler
ATTACH;FMTTYPE=image/jpeg:https://www.sportwelt-rsb.de/wp-content/uploads/2025/05/caroline-hernandez-2MGIwPHEFyY-unsplash-1.jpg
END:VEVENT
BEGIN:VEVENT
DTSTART;TZID=Europe/Berlin:20250714T140000
DTEND;TZID=Europe/Berlin:20250714T170000
DTSTAMP:20260421T010111
CREATED:20250512T092851Z
LAST-MODIFIED:20250612T081550Z
UID:10000118-1752501600-1752512400@www.sportwelt-rsb.de
SUMMARY:Boule
DESCRIPTION:Wo: Grillhütte Dürwiss\, Am Bongert 996 in Eschweiler
URL:https://www.sportwelt-rsb.de/event/boule/2025-07-14/
LOCATION:Grillhütte Dürwiß\, Am Bongert 996\, Eschweiler\, 52249
CATEGORIES:Sport im Park – Eschweiler
ATTACH;FMTTYPE=image/jpeg:https://www.sportwelt-rsb.de/wp-content/uploads/2025/05/caroline-hernandez-2MGIwPHEFyY-unsplash-1.jpg
END:VEVENT
BEGIN:VEVENT
DTSTART;TZID=Europe/Berlin:20250713T100000
DTEND;TZID=Europe/Berlin:20250713T130000
DTSTAMP:20260421T010111
CREATED:20250512T093028Z
LAST-MODIFIED:20250519T100337Z
UID:10000131-1752400800-1752411600@www.sportwelt-rsb.de
SUMMARY:Boule
DESCRIPTION:
URL:https://www.sportwelt-rsb.de/event/boule-2/2025-07-13/
LOCATION:Grillhütte Dürwiß\, Am Bongert 996\, Eschweiler\, 52249
CATEGORIES:Sport im Park – Eschweiler
ATTACH;FMTTYPE=image/jpeg:https://www.sportwelt-rsb.de/wp-content/uploads/2025/05/caroline-hernandez-2MGIwPHEFyY-unsplash.jpg
END:VEVENT
BEGIN:VEVENT
DTSTART;TZID=Europe/Berlin:20250709T140000
DTEND;TZID=Europe/Berlin:20250709T170000
DTSTAMP:20260421T010111
CREATED:20250512T092851Z
LAST-MODIFIED:20250612T081550Z
UID:10000117-1752069600-1752080400@www.sportwelt-rsb.de
SUMMARY:Boule
DESCRIPTION:Wo: Grillhütte Dürwiss\, Am Bongert 996 in Eschweiler
URL:https://www.sportwelt-rsb.de/event/boule/2025-07-09/
LOCATION:Grillhütte Dürwiß\, Am Bongert 996\, Eschweiler\, 52249
CATEGORIES:Sport im Park – Eschweiler
ATTACH;FMTTYPE=image/jpeg:https://www.sportwelt-rsb.de/wp-content/uploads/2025/05/caroline-hernandez-2MGIwPHEFyY-unsplash-1.jpg
END:VEVENT
BEGIN:VEVENT
DTSTART;TZID=Europe/Berlin:20250707T140000
DTEND;TZID=Europe/Berlin:20250707T170000
DTSTAMP:20260421T010111
CREATED:20250512T092851Z
LAST-MODIFIED:20250612T081550Z
UID:10000116-1751896800-1751907600@www.sportwelt-rsb.de
SUMMARY:Boule
DESCRIPTION:Wo: Grillhütte Dürwiss\, Am Bongert 996 in Eschweiler
URL:https://www.sportwelt-rsb.de/event/boule/2025-07-07/
LOCATION:Grillhütte Dürwiß\, Am Bongert 996\, Eschweiler\, 52249
CATEGORIES:Sport im Park – Eschweiler
ATTACH;FMTTYPE=image/jpeg:https://www.sportwelt-rsb.de/wp-content/uploads/2025/05/caroline-hernandez-2MGIwPHEFyY-unsplash-1.jpg
END:VEVENT
BEGIN:VEVENT
DTSTART;TZID=Europe/Berlin:20250706T100000
DTEND;TZID=Europe/Berlin:20250706T130000
DTSTAMP:20260421T010111
CREATED:20250512T093028Z
LAST-MODIFIED:20250519T100337Z
UID:10000130-1751796000-1751806800@www.sportwelt-rsb.de
SUMMARY:Boule
DESCRIPTION:
URL:https://www.sportwelt-rsb.de/event/boule-2/2025-07-06/
LOCATION:Grillhütte Dürwiß\, Am Bongert 996\, Eschweiler\, 52249
CATEGORIES:Sport im Park – Eschweiler
ATTACH;FMTTYPE=image/jpeg:https://www.sportwelt-rsb.de/wp-content/uploads/2025/05/caroline-hernandez-2MGIwPHEFyY-unsplash.jpg
END:VEVENT
BEGIN:VEVENT
DTSTART;TZID=Europe/Berlin:20250702T140000
DTEND;TZID=Europe/Berlin:20250702T170000
DTSTAMP:20260421T010111
CREATED:20250512T092851Z
LAST-MODIFIED:20250612T081550Z
UID:10000115-1751464800-1751475600@www.sportwelt-rsb.de
SUMMARY:Boule
DESCRIPTION:Wo: Grillhütte Dürwiss\, Am Bongert 996 in Eschweiler
URL:https://www.sportwelt-rsb.de/event/boule/2025-07-02/
LOCATION:Grillhütte Dürwiß\, Am Bongert 996\, Eschweiler\, 52249
CATEGORIES:Sport im Park – Eschweiler
ATTACH;FMTTYPE=image/jpeg:https://www.sportwelt-rsb.de/wp-content/uploads/2025/05/caroline-hernandez-2MGIwPHEFyY-unsplash-1.jpg
END:VEVENT
BEGIN:VEVENT
DTSTART;TZID=Europe/Berlin:20250630T140000
DTEND;TZID=Europe/Berlin:20250630T170000
DTSTAMP:20260421T010111
CREATED:20250512T092851Z
LAST-MODIFIED:20250612T081550Z
UID:10000114-1751292000-1751302800@www.sportwelt-rsb.de
SUMMARY:Boule
DESCRIPTION:Wo: Grillhütte Dürwiss\, Am Bongert 996 in Eschweiler
URL:https://www.sportwelt-rsb.de/event/boule/2025-06-30/
LOCATION:Grillhütte Dürwiß\, Am Bongert 996\, Eschweiler\, 52249
CATEGORIES:Sport im Park – Eschweiler
ATTACH;FMTTYPE=image/jpeg:https://www.sportwelt-rsb.de/wp-content/uploads/2025/05/caroline-hernandez-2MGIwPHEFyY-unsplash-1.jpg
END:VEVENT
END:VCALENDAR