BEGIN:VCALENDAR
VERSION:2.0
PRODID:-//Sportwelt - ECPv6.12.0.1//NONSGML v1.0//EN
CALSCALE:GREGORIAN
METHOD:PUBLISH
X-ORIGINAL-URL:https://www.sportwelt-rsb.de
X-WR-CALDESC:Veranstaltungen für Sportwelt
REFRESH-INTERVAL;VALUE=DURATION:PT1H
X-Robots-Tag:noindex
X-PUBLISHED-TTL:PT1H
BEGIN:VTIMEZONE
TZID:Europe/Berlin
BEGIN:DAYLIGHT
TZOFFSETFROM:+0100
TZOFFSETTO:+0200
TZNAME:CEST
DTSTART:20250330T010000
END:DAYLIGHT
BEGIN:STANDARD
TZOFFSETFROM:+0200
TZOFFSETTO:+0100
TZNAME:CET
DTSTART:20251026T010000
END:STANDARD
END:VTIMEZONE
BEGIN:VEVENT
DTSTART;TZID=Europe/Berlin:20250722T110000
DTEND;TZID=Europe/Berlin:20250722T120000
DTSTAMP:20260421T000411
CREATED:20250528T072230Z
LAST-MODIFIED:20250702T142409Z
UID:10000319-1753182000-1753185600@www.sportwelt-rsb.de
SUMMARY:Fit im Park
DESCRIPTION:Kurleitung: Gerda Laurs
URL:https://www.sportwelt-rsb.de/event/fit-im-park/2025-07-22/
LOCATION:generationenfitnesspark „Am Weiher“\, Herzogenrath\, nrw\, 52134
CATEGORIES:Sport im Park – Herzogenrath
ATTACH;FMTTYPE=image/jpeg:https://www.sportwelt-rsb.de/wp-content/uploads/2025/05/people-exercising-park.jpg
END:VEVENT
BEGIN:VEVENT
DTSTART;TZID=Europe/Berlin:20250715T110000
DTEND;TZID=Europe/Berlin:20250715T120000
DTSTAMP:20260421T000411
CREATED:20250528T072230Z
LAST-MODIFIED:20250702T142409Z
UID:10000318-1752577200-1752580800@www.sportwelt-rsb.de
SUMMARY:Fit im Park
DESCRIPTION:Kurleitung: Gerda Laurs
URL:https://www.sportwelt-rsb.de/event/fit-im-park/2025-07-15/
LOCATION:generationenfitnesspark „Am Weiher“\, Herzogenrath\, nrw\, 52134
CATEGORIES:Sport im Park – Herzogenrath
ATTACH;FMTTYPE=image/jpeg:https://www.sportwelt-rsb.de/wp-content/uploads/2025/05/people-exercising-park.jpg
END:VEVENT
BEGIN:VEVENT
DTSTART;TZID=Europe/Berlin:20250708T110000
DTEND;TZID=Europe/Berlin:20250708T120000
DTSTAMP:20260421T000411
CREATED:20250528T072230Z
LAST-MODIFIED:20250702T142409Z
UID:10000317-1751972400-1751976000@www.sportwelt-rsb.de
SUMMARY:Fit im Park
DESCRIPTION:Kurleitung: Gerda Laurs
URL:https://www.sportwelt-rsb.de/event/fit-im-park/2025-07-08/
LOCATION:generationenfitnesspark „Am Weiher“\, Herzogenrath\, nrw\, 52134
CATEGORIES:Sport im Park – Herzogenrath
ATTACH;FMTTYPE=image/jpeg:https://www.sportwelt-rsb.de/wp-content/uploads/2025/05/people-exercising-park.jpg
END:VEVENT
BEGIN:VEVENT
DTSTART;TZID=Europe/Berlin:20250701T110000
DTEND;TZID=Europe/Berlin:20250701T120000
DTSTAMP:20260421T000411
CREATED:20250528T072230Z
LAST-MODIFIED:20250702T142409Z
UID:10000316-1751367600-1751371200@www.sportwelt-rsb.de
SUMMARY:Fit im Park
DESCRIPTION:Kurleitung: Gerda Laurs
URL:https://www.sportwelt-rsb.de/event/fit-im-park/2025-07-01/
LOCATION:generationenfitnesspark „Am Weiher“\, Herzogenrath\, nrw\, 52134
CATEGORIES:Sport im Park – Herzogenrath
ATTACH;FMTTYPE=image/jpeg:https://www.sportwelt-rsb.de/wp-content/uploads/2025/05/people-exercising-park.jpg
END:VEVENT
END:VCALENDAR