BEGIN:VCALENDAR
VERSION:2.0
PRODID:-//Sportwelt - ECPv6.12.0.1//NONSGML v1.0//EN
CALSCALE:GREGORIAN
METHOD:PUBLISH
X-WR-CALNAME:Sportwelt
X-ORIGINAL-URL:https://www.sportwelt-rsb.de
X-WR-CALDESC:Veranstaltungen für Sportwelt
REFRESH-INTERVAL;VALUE=DURATION:PT1H
X-Robots-Tag:noindex
X-PUBLISHED-TTL:PT1H
BEGIN:VTIMEZONE
TZID:Europe/Berlin
BEGIN:DAYLIGHT
TZOFFSETFROM:+0100
TZOFFSETTO:+0200
TZNAME:CEST
DTSTART:20250330T010000
END:DAYLIGHT
BEGIN:STANDARD
TZOFFSETFROM:+0200
TZOFFSETTO:+0100
TZNAME:CET
DTSTART:20251026T010000
END:STANDARD
END:VTIMEZONE
BEGIN:VEVENT
DTSTART;TZID=Europe/Berlin:20250819T160000
DTEND;TZID=Europe/Berlin:20250826T170000
DTSTAMP:20260421T141155
CREATED:20250701T094316Z
LAST-MODIFIED:20250702T141322Z
UID:10000441-1755619200-1756227600@www.sportwelt-rsb.de
SUMMARY:Qigong
DESCRIPTION:Kursleitung: Frank Mentjes
URL:https://www.sportwelt-rsb.de/event/qigong/2025-08-19/
LOCATION:Volkspark Peterstrasse Baesweiler\, Peterstrasse\, Baesweiler\, 52499\, Germany
CATEGORIES:Sport im Park - Baesweiler
ATTACH;FMTTYPE=image/jpeg:https://www.sportwelt-rsb.de/wp-content/uploads/2025/07/people-practicing-yoga-outside-1.jpg
END:VEVENT
BEGIN:VEVENT
DTSTART;TZID=Europe/Berlin:20250812T160000
DTEND;TZID=Europe/Berlin:20250819T170000
DTSTAMP:20260421T141155
CREATED:20250701T094316Z
LAST-MODIFIED:20250702T141322Z
UID:10000440-1755014400-1755622800@www.sportwelt-rsb.de
SUMMARY:Qigong
DESCRIPTION:Kursleitung: Frank Mentjes
URL:https://www.sportwelt-rsb.de/event/qigong/2025-08-12/
LOCATION:Volkspark Peterstrasse Baesweiler\, Peterstrasse\, Baesweiler\, 52499\, Germany
CATEGORIES:Sport im Park - Baesweiler
ATTACH;FMTTYPE=image/jpeg:https://www.sportwelt-rsb.de/wp-content/uploads/2025/07/people-practicing-yoga-outside-1.jpg
END:VEVENT
BEGIN:VEVENT
DTSTART;TZID=Europe/Berlin:20250731T190000
DTEND;TZID=Europe/Berlin:20250731T200000
DTSTAMP:20260421T141155
CREATED:20250506T061010Z
LAST-MODIFIED:20250702T102930Z
UID:10000065-1753988400-1753992000@www.sportwelt-rsb.de
SUMMARY:Hatha Yoga
DESCRIPTION:Wo: Wiese hinter dem KuBIZ   –  Annapark \nAtmungsbasiertes Hatha-Yoga für Alle\nHatha Yoga ist ein ursprünglicher Yogastil\, der durch die Verknüpfung von Atmung und Bewegung die Yogapraxis vertieft und hilft\, den Kopf freizubekommen und tiefe Entspannung zu erreichen. Nach dem Sonnengruß werden verschiedene Asanas (Haltungen) eingenommen. Die Asanas unterteilen sich in dynamische und statische Phasen\, am Ende steht eine wohlverdiente Endentspannung.
URL:https://www.sportwelt-rsb.de/event/yoga/2025-07-31/
LOCATION:Alsdorf Annapark (KuBiz)\, Konrad-Adenauer-Allee 1\, Alsdorf\, 52477
CATEGORIES:Sport im Park - Alsdorf
ATTACH;FMTTYPE=image/jpeg:https://www.sportwelt-rsb.de/wp-content/uploads/2025/05/young-woman-practicing-yoga-home.jpg
END:VEVENT
BEGIN:VEVENT
DTSTART;TZID=Europe/Berlin:20250721T181500
DTEND;TZID=Europe/Berlin:20250721T191500
DTSTAMP:20260421T141155
CREATED:20250506T060836Z
LAST-MODIFIED:20250522T071954Z
UID:10000059-1753121700-1753125300@www.sportwelt-rsb.de
SUMMARY:HIT für alle Fitnesslevel
DESCRIPTION:Wo:\nWiese hinter dem KuBIZ /Annapark \nTermine: 14.07. und 21.07. \nHigh-Intensity Training (HIT) ist eine Trainingsmethode\, die auf kurze\, intensive Übungssequenzen setzt. Das Ziel ist es\, in kürzerer Zeit effektive Ergebnisse zu erzielen. Intensität\, kurze Dauer\, Wiederholungen und Pausen bestimmen das Training. Durch den Faktor Variation kann die Intensität so individuell angepasst werden\, dass alle mit trainieren können.
URL:https://www.sportwelt-rsb.de/event/hit-fuer-alle-fitnesslevel/2025-07-21/
LOCATION:Alsdorf Annapark (KuBiz)\, Konrad-Adenauer-Allee 1\, Alsdorf\, 52477
CATEGORIES:Sport im Park - Alsdorf
ATTACH;FMTTYPE=image/jpeg:https://www.sportwelt-rsb.de/wp-content/uploads/2025/05/aakash-malik-8f8BLgyhyW0-unsplash.jpg
END:VEVENT
BEGIN:VEVENT
DTSTART;TZID=Europe/Berlin:20250717T190000
DTEND;TZID=Europe/Berlin:20250717T200000
DTSTAMP:20260421T141155
CREATED:20250506T061010Z
LAST-MODIFIED:20250702T102930Z
UID:10000454-1752778800-1752782400@www.sportwelt-rsb.de
SUMMARY:Hatha Yoga
DESCRIPTION:Wo: Wiese hinter dem KuBIZ   –  Annapark \nAtmungsbasiertes Hatha-Yoga für Alle\nHatha Yoga ist ein ursprünglicher Yogastil\, der durch die Verknüpfung von Atmung und Bewegung die Yogapraxis vertieft und hilft\, den Kopf freizubekommen und tiefe Entspannung zu erreichen. Nach dem Sonnengruß werden verschiedene Asanas (Haltungen) eingenommen. Die Asanas unterteilen sich in dynamische und statische Phasen\, am Ende steht eine wohlverdiente Endentspannung.
URL:https://www.sportwelt-rsb.de/event/yoga/2025-07-17/
LOCATION:Alsdorf Annapark (KuBiz)\, Konrad-Adenauer-Allee 1\, Alsdorf\, 52477
CATEGORIES:Sport im Park - Alsdorf
ATTACH;FMTTYPE=image/jpeg:https://www.sportwelt-rsb.de/wp-content/uploads/2025/05/young-woman-practicing-yoga-home.jpg
END:VEVENT
BEGIN:VEVENT
DTSTART;TZID=Europe/Berlin:20250716T180000
DTEND;TZID=Europe/Berlin:20250716T190000
DTSTAMP:20260421T141155
CREATED:20250520T131826Z
LAST-MODIFIED:20250623T074539Z
UID:10000256-1752688800-1752692400@www.sportwelt-rsb.de
SUMMARY:ZUMBA
DESCRIPTION:Kursleitung:  Marion Heinrichsen.
URL:https://www.sportwelt-rsb.de/event/vinyasa-flow-yoga-fuer-alle/2025-07-16/
LOCATION:Stadtgarten Würselen\, Würselen\, 52146
CATEGORIES:Sport im Park – Würselen
ATTACH;FMTTYPE=image/jpeg:https://www.sportwelt-rsb.de/wp-content/uploads/2025/05/ahmed-jhuEDTa0pp0-unsplash.jpg
END:VEVENT
BEGIN:VEVENT
DTSTART;TZID=Europe/Berlin:20250714T181500
DTEND;TZID=Europe/Berlin:20250714T191500
DTSTAMP:20260421T141155
CREATED:20250506T060836Z
LAST-MODIFIED:20250522T071954Z
UID:10000058-1752516900-1752520500@www.sportwelt-rsb.de
SUMMARY:HIT für alle Fitnesslevel
DESCRIPTION:Wo:\nWiese hinter dem KuBIZ /Annapark \nTermine: 14.07. und 21.07. \nHigh-Intensity Training (HIT) ist eine Trainingsmethode\, die auf kurze\, intensive Übungssequenzen setzt. Das Ziel ist es\, in kürzerer Zeit effektive Ergebnisse zu erzielen. Intensität\, kurze Dauer\, Wiederholungen und Pausen bestimmen das Training. Durch den Faktor Variation kann die Intensität so individuell angepasst werden\, dass alle mit trainieren können.
URL:https://www.sportwelt-rsb.de/event/hit-fuer-alle-fitnesslevel/2025-07-14/
LOCATION:Alsdorf Annapark (KuBiz)\, Konrad-Adenauer-Allee 1\, Alsdorf\, 52477
CATEGORIES:Sport im Park - Alsdorf
ATTACH;FMTTYPE=image/jpeg:https://www.sportwelt-rsb.de/wp-content/uploads/2025/05/aakash-malik-8f8BLgyhyW0-unsplash.jpg
END:VEVENT
BEGIN:VEVENT
DTSTART;TZID=Europe/Berlin:20250710T183000
DTEND;TZID=Europe/Berlin:20250710T193000
DTSTAMP:20260421T141155
CREATED:20250527T104723Z
LAST-MODIFIED:20250527T113826Z
UID:10000279-1752172200-1752175800@www.sportwelt-rsb.de
SUMMARY:Zumba Herzogenrath
DESCRIPTION:Kursleitung: Miriam Faber
URL:https://www.sportwelt-rsb.de/event/zumba-herzogenrath/
LOCATION:Kämpchenpark\, Kämpchenpark Kohlscheid\, Herzogenrath\, 52134
CATEGORIES:Sport im Park – Herzogenrath
ATTACH;FMTTYPE=image/jpeg:https://www.sportwelt-rsb.de/wp-content/uploads/2025/05/people-exercising-park.jpg
END:VEVENT
BEGIN:VEVENT
DTSTART;TZID=Europe/Berlin:20250709T180000
DTEND;TZID=Europe/Berlin:20250709T190000
DTSTAMP:20260421T141155
CREATED:20250520T131826Z
LAST-MODIFIED:20250623T074539Z
UID:10000255-1752084000-1752087600@www.sportwelt-rsb.de
SUMMARY:ZUMBA
DESCRIPTION:Kursleitung:  Marion Heinrichsen.
URL:https://www.sportwelt-rsb.de/event/vinyasa-flow-yoga-fuer-alle/2025-07-09/
LOCATION:Stadtgarten Würselen\, Würselen\, 52146
CATEGORIES:Sport im Park – Würselen
ATTACH;FMTTYPE=image/jpeg:https://www.sportwelt-rsb.de/wp-content/uploads/2025/05/ahmed-jhuEDTa0pp0-unsplash.jpg
END:VEVENT
END:VCALENDAR