BEGIN:VCALENDAR
VERSION:2.0
PRODID:-//Sportwelt - ECPv6.12.0.1//NONSGML v1.0//EN
CALSCALE:GREGORIAN
METHOD:PUBLISH
X-ORIGINAL-URL:https://www.sportwelt-rsb.de
X-WR-CALDESC:Veranstaltungen für Sportwelt
REFRESH-INTERVAL;VALUE=DURATION:PT1H
X-Robots-Tag:noindex
X-PUBLISHED-TTL:PT1H
BEGIN:VTIMEZONE
TZID:Europe/Berlin
BEGIN:DAYLIGHT
TZOFFSETFROM:+0100
TZOFFSETTO:+0200
TZNAME:CEST
DTSTART:20250330T010000
END:DAYLIGHT
BEGIN:STANDARD
TZOFFSETFROM:+0200
TZOFFSETTO:+0100
TZNAME:CET
DTSTART:20251026T010000
END:STANDARD
END:VTIMEZONE
BEGIN:VEVENT
DTSTART;TZID=Europe/Berlin:20250710T170000
DTEND;TZID=Europe/Berlin:20250710T183000
DTSTAMP:20260421T080852
CREATED:20250505T085724Z
LAST-MODIFIED:20250519T100601Z
UID:10000024-1752166800-1752172200@www.sportwelt-rsb.de
SUMMARY:Nordic Walking
DESCRIPTION:Bestens geeignet für sportliche Naturliebhaber ist das Angebot Nordic Walking. Gemeinsam mit Trainerin Carmen wird auf einer Runde durch den Wald die Nordic-Walking Technik neu erlernt oder bei Vorkenntnissen optimiert.\nDas Angebot richtet sich sowohl an Neulinge als auch an Damen und Herren mit Vorkenntnissen. Bitte bringen Sie Nordic-Walking Stöcke mit. Auf das Fitnesslevel der Teilnehmenden wird Rücksicht genommen.
URL:https://www.sportwelt-rsb.de/event/nordic-walking/2025-07-10/
LOCATION:Parkplatz Roggenläger\, Winterstraße\, Stolberg\, 52223\, Germany
CATEGORIES:Sport im Park – Stolberg
ATTACH;FMTTYPE=image/jpeg:https://www.sportwelt-rsb.de/wp-content/uploads/2025/05/mature-people-aging-sports-well-being-concept-beautiful-stylish-elderly-woman-choosing-healthy-active-lifestyle-retirement-spending-morning-outdoors-enjoying-scandinavian-walking.jpg
GEO:50,72247°;6,24125°
X-APPLE-STRUCTURED-LOCATION;VALUE=URI;X-ADDRESS=Parkplatz Roggenläger Winterstraße Stolberg 52223 Germany;X-APPLE-RADIUS=500;X-TITLE=Winterstraße:geo:6,24125°,50,72247°
END:VEVENT
BEGIN:VEVENT
DTSTART;TZID=Europe/Berlin:20250709T170000
DTEND;TZID=Europe/Berlin:20250709T180000
DTSTAMP:20260421T080852
CREATED:20250505T091049Z
LAST-MODIFIED:20250519T100608Z
UID:10000027-1752080400-1752084000@www.sportwelt-rsb.de
SUMMARY:Yoga für Senioren
DESCRIPTION:Yoga ist aktuell in aller Munde. Daher möchten wir mit diesem Angebot auch älteren Interessierten einen Einblick in die Sportart Yoga ermöglichen. Trainerin Carmen empfängt Sie auf der Wiese hinter der Kirche in Stolberg-Breinig.\nGemeinsam werden Yoga-Übungen praktiziert. Hierbei wird auf die richtige Körperhaltung geachtet. Wer eine Kombination aus sportlicher Aktivität und Entspannung sucht\, ist hier genau richtig.\nDas Angebot richtet sich an Damen und Herren\, mit uns ohne Vorerfahrungen im Bereich Yoga.
URL:https://www.sportwelt-rsb.de/event/yoga-fuer-senioren/2025-07-09/
LOCATION:Wiese hinter der Kirche in Breinig\, Neustraße 9\, Stolberg\, 52223\, Germany
CATEGORIES:Sport im Park – Stolberg
ATTACH;FMTTYPE=image/jpeg:https://www.sportwelt-rsb.de/wp-content/uploads/2025/05/young-women-yoga-indoors-keep-calm-meditates-while-practicing-yoga-explore-inner-peace-yoga-meditation-have-good-benefits-health-photo-concept-yoga-sport-healthy-lifestyle.jpg
END:VEVENT
BEGIN:VEVENT
DTSTART;TZID=Europe/Berlin:20250703T170000
DTEND;TZID=Europe/Berlin:20250703T183000
DTSTAMP:20260421T080852
CREATED:20250505T085724Z
LAST-MODIFIED:20250519T100601Z
UID:10000023-1751562000-1751567400@www.sportwelt-rsb.de
SUMMARY:Nordic Walking
DESCRIPTION:Bestens geeignet für sportliche Naturliebhaber ist das Angebot Nordic Walking. Gemeinsam mit Trainerin Carmen wird auf einer Runde durch den Wald die Nordic-Walking Technik neu erlernt oder bei Vorkenntnissen optimiert.\nDas Angebot richtet sich sowohl an Neulinge als auch an Damen und Herren mit Vorkenntnissen. Bitte bringen Sie Nordic-Walking Stöcke mit. Auf das Fitnesslevel der Teilnehmenden wird Rücksicht genommen.
URL:https://www.sportwelt-rsb.de/event/nordic-walking/2025-07-03/
LOCATION:Parkplatz Roggenläger\, Winterstraße\, Stolberg\, 52223\, Germany
CATEGORIES:Sport im Park – Stolberg
ATTACH;FMTTYPE=image/jpeg:https://www.sportwelt-rsb.de/wp-content/uploads/2025/05/mature-people-aging-sports-well-being-concept-beautiful-stylish-elderly-woman-choosing-healthy-active-lifestyle-retirement-spending-morning-outdoors-enjoying-scandinavian-walking.jpg
GEO:50,72247°;6,24125°
X-APPLE-STRUCTURED-LOCATION;VALUE=URI;X-ADDRESS=Parkplatz Roggenläger Winterstraße Stolberg 52223 Germany;X-APPLE-RADIUS=500;X-TITLE=Winterstraße:geo:6,24125°,50,72247°
END:VEVENT
BEGIN:VEVENT
DTSTART;TZID=Europe/Berlin:20250702T170000
DTEND;TZID=Europe/Berlin:20250702T180000
DTSTAMP:20260421T080852
CREATED:20250505T091049Z
LAST-MODIFIED:20250519T100608Z
UID:10000026-1751475600-1751479200@www.sportwelt-rsb.de
SUMMARY:Yoga für Senioren
DESCRIPTION:Yoga ist aktuell in aller Munde. Daher möchten wir mit diesem Angebot auch älteren Interessierten einen Einblick in die Sportart Yoga ermöglichen. Trainerin Carmen empfängt Sie auf der Wiese hinter der Kirche in Stolberg-Breinig.\nGemeinsam werden Yoga-Übungen praktiziert. Hierbei wird auf die richtige Körperhaltung geachtet. Wer eine Kombination aus sportlicher Aktivität und Entspannung sucht\, ist hier genau richtig.\nDas Angebot richtet sich an Damen und Herren\, mit uns ohne Vorerfahrungen im Bereich Yoga.
URL:https://www.sportwelt-rsb.de/event/yoga-fuer-senioren/2025-07-02/
LOCATION:Wiese hinter der Kirche in Breinig\, Neustraße 9\, Stolberg\, 52223\, Germany
CATEGORIES:Sport im Park – Stolberg
ATTACH;FMTTYPE=image/jpeg:https://www.sportwelt-rsb.de/wp-content/uploads/2025/05/young-women-yoga-indoors-keep-calm-meditates-while-practicing-yoga-explore-inner-peace-yoga-meditation-have-good-benefits-health-photo-concept-yoga-sport-healthy-lifestyle.jpg
END:VEVENT
BEGIN:VEVENT
DTSTART;TZID=Europe/Berlin:20250626T170000
DTEND;TZID=Europe/Berlin:20250626T183000
DTSTAMP:20260421T080852
CREATED:20250505T085724Z
LAST-MODIFIED:20250519T100601Z
UID:10000022-1750957200-1750962600@www.sportwelt-rsb.de
SUMMARY:Nordic Walking
DESCRIPTION:Bestens geeignet für sportliche Naturliebhaber ist das Angebot Nordic Walking. Gemeinsam mit Trainerin Carmen wird auf einer Runde durch den Wald die Nordic-Walking Technik neu erlernt oder bei Vorkenntnissen optimiert.\nDas Angebot richtet sich sowohl an Neulinge als auch an Damen und Herren mit Vorkenntnissen. Bitte bringen Sie Nordic-Walking Stöcke mit. Auf das Fitnesslevel der Teilnehmenden wird Rücksicht genommen.
URL:https://www.sportwelt-rsb.de/event/nordic-walking/2025-06-26/
LOCATION:Parkplatz Roggenläger\, Winterstraße\, Stolberg\, 52223\, Germany
CATEGORIES:Sport im Park – Stolberg
ATTACH;FMTTYPE=image/jpeg:https://www.sportwelt-rsb.de/wp-content/uploads/2025/05/mature-people-aging-sports-well-being-concept-beautiful-stylish-elderly-woman-choosing-healthy-active-lifestyle-retirement-spending-morning-outdoors-enjoying-scandinavian-walking.jpg
GEO:50,72247°;6,24125°
X-APPLE-STRUCTURED-LOCATION;VALUE=URI;X-ADDRESS=Parkplatz Roggenläger Winterstraße Stolberg 52223 Germany;X-APPLE-RADIUS=500;X-TITLE=Winterstraße:geo:6,24125°,50,72247°
END:VEVENT
BEGIN:VEVENT
DTSTART;TZID=Europe/Berlin:20250625T170000
DTEND;TZID=Europe/Berlin:20250625T180000
DTSTAMP:20260421T080852
CREATED:20250505T091049Z
LAST-MODIFIED:20250519T100608Z
UID:10000025-1750870800-1750874400@www.sportwelt-rsb.de
SUMMARY:Yoga für Senioren
DESCRIPTION:Yoga ist aktuell in aller Munde. Daher möchten wir mit diesem Angebot auch älteren Interessierten einen Einblick in die Sportart Yoga ermöglichen. Trainerin Carmen empfängt Sie auf der Wiese hinter der Kirche in Stolberg-Breinig.\nGemeinsam werden Yoga-Übungen praktiziert. Hierbei wird auf die richtige Körperhaltung geachtet. Wer eine Kombination aus sportlicher Aktivität und Entspannung sucht\, ist hier genau richtig.\nDas Angebot richtet sich an Damen und Herren\, mit uns ohne Vorerfahrungen im Bereich Yoga.
URL:https://www.sportwelt-rsb.de/event/yoga-fuer-senioren/2025-06-25/
LOCATION:Wiese hinter der Kirche in Breinig\, Neustraße 9\, Stolberg\, 52223\, Germany
CATEGORIES:Sport im Park – Stolberg
ATTACH;FMTTYPE=image/jpeg:https://www.sportwelt-rsb.de/wp-content/uploads/2025/05/young-women-yoga-indoors-keep-calm-meditates-while-practicing-yoga-explore-inner-peace-yoga-meditation-have-good-benefits-health-photo-concept-yoga-sport-healthy-lifestyle.jpg
END:VEVENT
END:VCALENDAR