BEGIN:VCALENDAR
VERSION:2.0
PRODID:-//Sportwelt - ECPv6.12.0.1//NONSGML v1.0//EN
CALSCALE:GREGORIAN
METHOD:PUBLISH
X-WR-CALNAME:Sportwelt
X-ORIGINAL-URL:https://www.sportwelt-rsb.de
X-WR-CALDESC:Veranstaltungen für Sportwelt
REFRESH-INTERVAL;VALUE=DURATION:PT1H
X-Robots-Tag:noindex
X-PUBLISHED-TTL:PT1H
BEGIN:VTIMEZONE
TZID:Europe/Berlin
BEGIN:DAYLIGHT
TZOFFSETFROM:+0100
TZOFFSETTO:+0200
TZNAME:CEST
DTSTART:20250330T010000
END:DAYLIGHT
BEGIN:STANDARD
TZOFFSETFROM:+0200
TZOFFSETTO:+0100
TZNAME:CET
DTSTART:20251026T010000
END:STANDARD
END:VTIMEZONE
BEGIN:VEVENT
DTSTART;VALUE=DATE:20250623
DTEND;VALUE=DATE:20250825
DTSTAMP:20260421T080826
CREATED:20250620T130200Z
LAST-MODIFIED:20250623T070517Z
UID:10000365-1750636800-1756079999@www.sportwelt-rsb.de
SUMMARY:Sport im Park 2025
DESCRIPTION:Sport im Park ist zurück! \nAuf verschiedenen Plätzen und Grünflächen in der Städte Region Aachen laden lokale Vereine zu einem bunten Programm voller Bewegung und Begegnung ein – und das komplett kostenlos.Zahlreiche engagierte und qualifizierte Übungsleiterinnen und Übungsleiter freuen sich darauf\, mit euch gemeinsam aktiv zu werden und ihre Sportangebote vorzustellen. \nEgal ob sportlicher Neuling oder erfahrener Profi – mitmachen lohnt sich für alle! \n14.7. — 3.8. in Alsdorf\n11. — 24.8. in Baesweiler\n30.6. — 27.7. in Eschweiler\n30.6. — 27.7. in Herzogenrat\n23.6. — 11.7. in Stolberg\n7. — 20.7. in Würselen\nViel Spaß!
URL:https://www.sportwelt-rsb.de/event/sport-im-park-2025/
CATEGORIES:RSB
ATTACH;FMTTYPE=image/png:https://www.sportwelt-rsb.de/wp-content/uploads/2025/03/Sport-im-Park-Logo.png
END:VEVENT
BEGIN:VEVENT
DTSTART;TZID=Europe/Berlin:20250524T100000
DTEND;TZID=Europe/Berlin:20250524T100000
DTSTAMP:20260421T080826
CREATED:20250326T064119Z
LAST-MODIFIED:20250330T101420Z
UID:10000005-1748080800-1748080800@www.sportwelt-rsb.de
SUMMARY:Sportabzeichen Spezial
DESCRIPTION:Am 24.05.2025 findet wieder das „Sportabzeichen Spezial“ des SSV Alsdorf für die Fahrraddisziplinen statt.\nAuch in diesem Jahr steht hierfür die zwei Kilometer lange Ovalbahn des Aldenhoven Testing Centers zur Verfügung. Einlass beginnt um 10 Uhr\, die Veranstaltung startet um 10:20 Uhr. Weitere Informationen zu dieser Veranstaltung auf unserer Webseite. \n\nAnmeldungen im Vorhinein:\nUwe Hacking: sportabzeichen-alsdorf@web.de
URL:https://www.sportwelt-rsb.de/event/sportabzeichen-spezial/
LOCATION:Aldenhoven Testing Center\, Industriepark Emil Mayrisch\, Aldenhoven\, 52457\, Germany
CATEGORIES:Alsdorf,Sportabzeichen
ATTACH;FMTTYPE=image/jpeg:https://www.sportwelt-rsb.de/wp-content/uploads/2025/02/coen-van-de-broek-OFyh9TpMyM8-unsplash.jpg
END:VEVENT
BEGIN:VEVENT
DTSTART;TZID=Europe/Berlin:20250426T110000
DTEND;TZID=Europe/Berlin:20250426T110000
DTSTAMP:20260421T080826
CREATED:20250407T092942Z
LAST-MODIFIED:20250527T112733Z
UID:10000012-1745665200-1745665200@www.sportwelt-rsb.de
SUMMARY:Pre-Opening Sportabzeichenaktion
DESCRIPTION:Wer zum Auftakt schon die Ausdauerdisziplin absolviert\, darf sich im Hochsommer im Freibad abkühlen. \nDie zeitintensiven Disziplinen 5\, 10 & 20km Radfahren\, 7\,5km Walking oder Nordic-Walking\, 10.000m-Lauf oder 1-Stunde-Ausdauer-Lauf (Lauf-Abzeichen)\, 2h-Walking finden auf den asphaltierten/gepflasterten Wirtschaftswegen am Blaustein-See statt. \nTreffpunkt (Punkt A) und Parkmöglichkeiten (Punkt D). \nEine Anmeldung per Email ist erwünscht. (sportabzeichen-alsdorf@web.de) \nSollten Wetter-Kapriolen eintreten erfolgt eine Absage freitags bis 16.00 Uhr.
URL:https://www.sportwelt-rsb.de/event/pre-opening-sportabzeichenaktion/
LOCATION:Blausteinsee\, Eschweiler\, Germany
CATEGORIES:Alsdorf,Eschweiler
ATTACH;FMTTYPE=image/jpeg:https://www.sportwelt-rsb.de/wp-content/uploads/2025/04/csm_000000_Eschweiler_Blausteinsee_gruenmetropole_Lichtographie_e.V_b06cab688f.jpg
END:VEVENT
END:VCALENDAR