BEGIN:VCALENDAR
VERSION:2.0
PRODID:-//Sportwelt - ECPv6.12.0.1//NONSGML v1.0//EN
CALSCALE:GREGORIAN
METHOD:PUBLISH
X-WR-CALNAME:Sportwelt
X-ORIGINAL-URL:https://www.sportwelt-rsb.de
X-WR-CALDESC:Veranstaltungen für Sportwelt
REFRESH-INTERVAL;VALUE=DURATION:PT1H
X-Robots-Tag:noindex
X-PUBLISHED-TTL:PT1H
BEGIN:VTIMEZONE
TZID:Europe/Berlin
BEGIN:DAYLIGHT
TZOFFSETFROM:+0100
TZOFFSETTO:+0200
TZNAME:CEST
DTSTART:20250330T010000
END:DAYLIGHT
BEGIN:STANDARD
TZOFFSETFROM:+0200
TZOFFSETTO:+0100
TZNAME:CET
DTSTART:20251026T010000
END:STANDARD
END:VTIMEZONE
BEGIN:VEVENT
DTSTART;TZID=Europe/Berlin:20250802T100000
DTEND;TZID=Europe/Berlin:20250802T130000
DTSTAMP:20260420T204536
CREATED:20250506T060525Z
LAST-MODIFIED:20250521T074435Z
UID:10000165-1754128800-1754139600@www.sportwelt-rsb.de
SUMMARY:Sportabzeichen
DESCRIPTION:Da läuft doch was auf der Sportanlage im Südpark von Alemannia Mariadorf! \nIn den Sommerferien bietet der Stadtsportverband Alsdorf samstags in der Zeit von 10 bis 13 Uhr die Möglichkeit\, etwas für die Fitness und Beweglichkeit zu tun.\nVom 19. Juli bis 02. August kann dort das Deutsche Sportabzeichen erworben werden. In den vier Disziplingruppen Ausdauer\, Kraft\, Schnelligkeit und Koordination ist jeweils eine Leistung zu erfüllen. Dabei steht eine Vielzahl an Sportarten zur Verfügung.\nNeben den klassischen Disziplinen der Leichtathletik sind auch Nordic-/ Walking und Übungen aus dem Calisthenics im Programm. \nErfahrene Prüfer*innen geben vor Ort entsprechende Tipps und Hilfen\, bevor es in die Wertung geht.\nWeitere Informationen sind beim Sportabzeichen-Obmann Uwe Hacking unter Sportabzeichen-Alsdorf@web.de erhältlich.
URL:https://www.sportwelt-rsb.de/event/sportabzeichen/2025-08-02/
LOCATION:Sportanlage Südpark\, Im Winkel 7\, Alsdorf\, 52477
CATEGORIES:Sport im Park - Alsdorf
ATTACH;FMTTYPE=image/jpeg:https://www.sportwelt-rsb.de/wp-content/uploads/2025/05/chau-cedric-6GinD-1NwE-unsplash.jpg
END:VEVENT
BEGIN:VEVENT
DTSTART;TZID=Europe/Berlin:20250726T100000
DTEND;TZID=Europe/Berlin:20250726T130000
DTSTAMP:20260420T204536
CREATED:20250506T060525Z
LAST-MODIFIED:20250521T074435Z
UID:10000164-1753524000-1753534800@www.sportwelt-rsb.de
SUMMARY:Sportabzeichen
DESCRIPTION:Da läuft doch was auf der Sportanlage im Südpark von Alemannia Mariadorf! \nIn den Sommerferien bietet der Stadtsportverband Alsdorf samstags in der Zeit von 10 bis 13 Uhr die Möglichkeit\, etwas für die Fitness und Beweglichkeit zu tun.\nVom 19. Juli bis 02. August kann dort das Deutsche Sportabzeichen erworben werden. In den vier Disziplingruppen Ausdauer\, Kraft\, Schnelligkeit und Koordination ist jeweils eine Leistung zu erfüllen. Dabei steht eine Vielzahl an Sportarten zur Verfügung.\nNeben den klassischen Disziplinen der Leichtathletik sind auch Nordic-/ Walking und Übungen aus dem Calisthenics im Programm. \nErfahrene Prüfer*innen geben vor Ort entsprechende Tipps und Hilfen\, bevor es in die Wertung geht.\nWeitere Informationen sind beim Sportabzeichen-Obmann Uwe Hacking unter Sportabzeichen-Alsdorf@web.de erhältlich.
URL:https://www.sportwelt-rsb.de/event/sportabzeichen/2025-07-26/
LOCATION:Sportanlage Südpark\, Im Winkel 7\, Alsdorf\, 52477
CATEGORIES:Sport im Park - Alsdorf
ATTACH;FMTTYPE=image/jpeg:https://www.sportwelt-rsb.de/wp-content/uploads/2025/05/chau-cedric-6GinD-1NwE-unsplash.jpg
END:VEVENT
BEGIN:VEVENT
DTSTART;TZID=Europe/Berlin:20250719T100000
DTEND;TZID=Europe/Berlin:20250719T130000
DTSTAMP:20260420T204536
CREATED:20250506T060525Z
LAST-MODIFIED:20250521T074435Z
UID:10000057-1752919200-1752930000@www.sportwelt-rsb.de
SUMMARY:Sportabzeichen
DESCRIPTION:Da läuft doch was auf der Sportanlage im Südpark von Alemannia Mariadorf! \nIn den Sommerferien bietet der Stadtsportverband Alsdorf samstags in der Zeit von 10 bis 13 Uhr die Möglichkeit\, etwas für die Fitness und Beweglichkeit zu tun.\nVom 19. Juli bis 02. August kann dort das Deutsche Sportabzeichen erworben werden. In den vier Disziplingruppen Ausdauer\, Kraft\, Schnelligkeit und Koordination ist jeweils eine Leistung zu erfüllen. Dabei steht eine Vielzahl an Sportarten zur Verfügung.\nNeben den klassischen Disziplinen der Leichtathletik sind auch Nordic-/ Walking und Übungen aus dem Calisthenics im Programm. \nErfahrene Prüfer*innen geben vor Ort entsprechende Tipps und Hilfen\, bevor es in die Wertung geht.\nWeitere Informationen sind beim Sportabzeichen-Obmann Uwe Hacking unter Sportabzeichen-Alsdorf@web.de erhältlich.
URL:https://www.sportwelt-rsb.de/event/sportabzeichen/2025-07-19/
LOCATION:Sportanlage Südpark\, Im Winkel 7\, Alsdorf\, 52477
CATEGORIES:Sport im Park - Alsdorf
ATTACH;FMTTYPE=image/jpeg:https://www.sportwelt-rsb.de/wp-content/uploads/2025/05/chau-cedric-6GinD-1NwE-unsplash.jpg
END:VEVENT
END:VCALENDAR