BEGIN:VCALENDAR
VERSION:2.0
PRODID:-//Sportwelt - ECPv6.12.0.1//NONSGML v1.0//EN
CALSCALE:GREGORIAN
METHOD:PUBLISH
X-ORIGINAL-URL:https://www.sportwelt-rsb.de
X-WR-CALDESC:Veranstaltungen für Sportwelt
REFRESH-INTERVAL;VALUE=DURATION:PT1H
X-Robots-Tag:noindex
X-PUBLISHED-TTL:PT1H
BEGIN:VTIMEZONE
TZID:Europe/Berlin
BEGIN:DAYLIGHT
TZOFFSETFROM:+0100
TZOFFSETTO:+0200
TZNAME:CEST
DTSTART:20250330T010000
END:DAYLIGHT
BEGIN:STANDARD
TZOFFSETFROM:+0200
TZOFFSETTO:+0100
TZNAME:CET
DTSTART:20251026T010000
END:STANDARD
END:VTIMEZONE
BEGIN:VEVENT
DTSTART;TZID=Europe/Berlin:20250507T080000
DTEND;TZID=Europe/Berlin:20250507T170000
DTSTAMP:20260421T144549
CREATED:20250507T063629Z
LAST-MODIFIED:20250518T095202Z
UID:10000077-1746604800-1746637200@www.sportwelt-rsb.de
SUMMARY:Breinig läuft
DESCRIPTION:29.05.2025 Breinig läuft ab 9.30 Uhr REWE parkplatz 52223 Breinig
URL:https://www.sportwelt-rsb.de/event/breinig-laeuft/
CATEGORIES:Stolberg
ATTACH;FMTTYPE=image/png:https://www.sportwelt-rsb.de/wp-content/uploads/2025/05/Schnittmenge-58.png
END:VEVENT
BEGIN:VEVENT
DTSTART;TZID=Europe/Berlin:20250507T080000
DTEND;TZID=Europe/Berlin:20250507T170000
DTSTAMP:20260421T144549
CREATED:20250507T063749Z
LAST-MODIFIED:20250518T094855Z
UID:10000078-1746604800-1746637200@www.sportwelt-rsb.de
SUMMARY:EVS Cup Breinig
DESCRIPTION:EVS Cup Fußballturnier ab 12.08. Schützheide 50 d\, 52223 Stolberg
URL:https://www.sportwelt-rsb.de/event/evs-cup-breinig/
CATEGORIES:Stolberg
ATTACH;FMTTYPE=image/jpeg:https://www.sportwelt-rsb.de/wp-content/uploads/2025/05/getty-images-frtfrsVoGag-unsplash.jpg
END:VEVENT
BEGIN:VEVENT
DTSTART;TZID=Europe/Berlin:20250507T080000
DTEND;TZID=Europe/Berlin:20250507T170000
DTSTAMP:20260421T144549
CREATED:20250507T063907Z
LAST-MODIFIED:20250518T094926Z
UID:10000079-1746604800-1746637200@www.sportwelt-rsb.de
SUMMARY:Stadtmeisterschaft Turnen
DESCRIPTION:24.Mai 2025 Stadtmeisterschaft im Turnen ausgerichtet vom TB Breinig Sporthalle Breinig
URL:https://www.sportwelt-rsb.de/event/stadtmeisterschaft-turnen/
CATEGORIES:Stolberg
ATTACH;FMTTYPE=image/jpeg:https://www.sportwelt-rsb.de/wp-content/uploads/2025/05/eduardo-cano-photo-co-6aHmLVmw1qk-unsplash-1.jpg
END:VEVENT
BEGIN:VEVENT
DTSTART;TZID=Europe/Berlin:20250507T080000
DTEND;TZID=Europe/Berlin:20250507T170000
DTSTAMP:20260421T144549
CREATED:20250507T064049Z
LAST-MODIFIED:20250518T104426Z
UID:10000080-1746604800-1746637200@www.sportwelt-rsb.de
SUMMARY:Tennis Stolberg Open
DESCRIPTION:Vom 2. August bis zum 16. August findet das Tennisturnier Stolberg Open auf der neuen Clubanlage in Stolberg Breinigerberg statt
URL:https://www.sportwelt-rsb.de/event/tennis-stolberg-open/
CATEGORIES:Stolberg
ATTACH;FMTTYPE=image/jpeg:https://www.sportwelt-rsb.de/wp-content/uploads/2025/05/getty-images-cSg7TloKma4-unsplash.jpg
END:VEVENT
BEGIN:VEVENT
DTSTART;TZID=Europe/Berlin:20250509T080000
DTEND;TZID=Europe/Berlin:20250509T170000
DTSTAMP:20260421T144549
CREATED:20250509T073833Z
LAST-MODIFIED:20250518T095027Z
UID:10000081-1746777600-1746810000@www.sportwelt-rsb.de
SUMMARY:Fußballturniere VfL Vichttal 08
DESCRIPTION:Hksp Sommercup            02.08.-16.082025 \nFranz Harpers Cup          22.08.-24.08.2025
URL:https://www.sportwelt-rsb.de/event/fussballturniere-vfl-vichttal-08/
CATEGORIES:Stolberg
ATTACH;FMTTYPE=image/jpeg:https://www.sportwelt-rsb.de/wp-content/uploads/2025/05/hal-gatewood-AzDHa9F9uBY-unsplash.jpg
END:VEVENT
BEGIN:VEVENT
DTSTART;TZID=Europe/Berlin:20250516T080000
DTEND;TZID=Europe/Berlin:20250516T170000
DTSTAMP:20260421T144549
CREATED:20250516T075405Z
LAST-MODIFIED:20250516T075405Z
UID:10000157-1747382400-1747414800@www.sportwelt-rsb.de
SUMMARY:Fußball Highlight !!
DESCRIPTION: 
URL:https://www.sportwelt-rsb.de/event/fussball-highlight/
CATEGORIES:Stolberg
END:VEVENT
BEGIN:VEVENT
DTSTART;TZID=Europe/Berlin:20250518T000000
DTEND;TZID=Europe/Berlin:20250518T000000
DTSTAMP:20260421T144549
CREATED:20250518T094658Z
LAST-MODIFIED:20250518T094658Z
UID:10000159-1747526400-1747526400@www.sportwelt-rsb.de
SUMMARY:Kettlebell Meisterschaft
DESCRIPTION:
URL:https://www.sportwelt-rsb.de/event/kettlebell-meisterschaft/
CATEGORIES:Stolberg
ATTACH;FMTTYPE=image/png:https://www.sportwelt-rsb.de/wp-content/uploads/2025/05/Spiel-1.png
END:VEVENT
BEGIN:VEVENT
DTSTART;TZID=Europe/Berlin:20250524T100000
DTEND;TZID=Europe/Berlin:20250524T100000
DTSTAMP:20260421T144549
CREATED:20250326T064119Z
LAST-MODIFIED:20250330T101420Z
UID:10000005-1748080800-1748080800@www.sportwelt-rsb.de
SUMMARY:Sportabzeichen Spezial
DESCRIPTION:Am 24.05.2025 findet wieder das „Sportabzeichen Spezial“ des SSV Alsdorf für die Fahrraddisziplinen statt.\nAuch in diesem Jahr steht hierfür die zwei Kilometer lange Ovalbahn des Aldenhoven Testing Centers zur Verfügung. Einlass beginnt um 10 Uhr\, die Veranstaltung startet um 10:20 Uhr. Weitere Informationen zu dieser Veranstaltung auf unserer Webseite. \n\nAnmeldungen im Vorhinein:\nUwe Hacking: sportabzeichen-alsdorf@web.de
URL:https://www.sportwelt-rsb.de/event/sportabzeichen-spezial/
LOCATION:Aldenhoven Testing Center\, Industriepark Emil Mayrisch\, Aldenhoven\, 52457\, Germany
CATEGORIES:Alsdorf,Sportabzeichen
ATTACH;FMTTYPE=image/jpeg:https://www.sportwelt-rsb.de/wp-content/uploads/2025/02/coen-van-de-broek-OFyh9TpMyM8-unsplash.jpg
END:VEVENT
END:VCALENDAR