BEGIN:VCALENDAR
VERSION:2.0
PRODID:-//Sportwelt - ECPv6.12.0.1//NONSGML v1.0//EN
CALSCALE:GREGORIAN
METHOD:PUBLISH
X-ORIGINAL-URL:https://www.sportwelt-rsb.de
X-WR-CALDESC:Veranstaltungen für Sportwelt
REFRESH-INTERVAL;VALUE=DURATION:PT1H
X-Robots-Tag:noindex
X-PUBLISHED-TTL:PT1H
BEGIN:VTIMEZONE
TZID:Europe/Berlin
BEGIN:DAYLIGHT
TZOFFSETFROM:+0100
TZOFFSETTO:+0200
TZNAME:CEST
DTSTART:20250330T010000
END:DAYLIGHT
BEGIN:STANDARD
TZOFFSETFROM:+0200
TZOFFSETTO:+0100
TZNAME:CET
DTSTART:20251026T010000
END:STANDARD
END:VTIMEZONE
BEGIN:VEVENT
DTSTART;VALUE=DATE:20250623
DTEND;VALUE=DATE:20250712
DTSTAMP:20260421T161005
CREATED:20250509T073911Z
LAST-MODIFIED:20250620T131908Z
UID:10000082-1750636800-1752278399@www.sportwelt-rsb.de
SUMMARY:Sport im Park Stolberg
DESCRIPTION:Kursplan:  \nMONTAGS \nTennis \nWann: Montag: 18:00-19:00+19:00-20:00 \nWo: Vereinsgelände\nTC BW Stolberg 1932 e.V. \n  \nDIENSTAGS\nZumba \nWann: Dienstags 19:00-20:00 Uhr\nWo: Zinkhütter Hof\nHelene-Weber-Haus \n  \nMama Fit mit Kinderwagen \nWann: Dienstags 10:00-11:30 Uhr\nWo: Stolberg-Zweifall –   Treffpunkt Landbäckerei Berzborn\, Jägerhausstraße 28\, 52224 Stolberg \nPilates\nWann: Dienstags 18:00-19:00 Uhr\nWo: Zinkhütter Hof\nHelene-Weber-Haus \n  \n  \nMITTWOCHS \nNordic Walking\nYoga für Senioren \nWann: Donnerstags 17:00-18:30 Uhr und Mittwochs 17:00-18:00 Uhr \nWo: Parkplatz Roggenlager zwischen Breinig und Zweifall\nWiese hinter der Kirche in Stolberg-Breinig (Neustraße) \nWer: Turnerbund 1893 Breinig e.V \n  \nDONNERSTAGS \nNordic Walking\nYoga für Senioren \nWann: Donnerstags 17:00-18:30 Uhr und Mittwochs 17:00-18:00 Uhr \nWo: Parkplatz Roggenlager zwischen Breinig und Zweifall\nWiese hinter der Kirche in Stolberg-Breinig (Neustraße) \nWer: Turnerbund 1893 Breinig e.V \n  \nFREITAGS \nZumba \nWann: Freitags     18:30-19:30 Uhr \nWo: Zinkhütter Hof\nHelene-Weber-Haus \n  \nSAMSTAGS \nPiloxing \nWann: Samstags 13:00-14:00 Uhr\nWo: Zinkhütter Hof\nHelene-Weber-Haus \n  \nSONNTAGS \nSportangebot: Cornhole\nWann: Sonntags 17:00-20:00 Uhr (29.06. & 06.07.) \nWo: Zinkhütter Hof (bei schlechtem Wetter: Sporthalle Höhenstraße 25) \nWer: Stolberger Cornhole-Team  „Die Donnersaeckchen“ \n  \n  \n 
URL:https://www.sportwelt-rsb.de/event/sport-im-park-stolberg/
CATEGORIES:Stolberg
ATTACH;FMTTYPE=image/jpeg:https://www.sportwelt-rsb.de/wp-content/uploads/2025/06/shutterstock_654691066.jpg
END:VEVENT
BEGIN:VEVENT
DTSTART;VALUE=DATE:20250623
DTEND;VALUE=DATE:20250825
DTSTAMP:20260421T161005
CREATED:20250620T130200Z
LAST-MODIFIED:20250623T070517Z
UID:10000365-1750636800-1756079999@www.sportwelt-rsb.de
SUMMARY:Sport im Park 2025
DESCRIPTION:Sport im Park ist zurück! \nAuf verschiedenen Plätzen und Grünflächen in der Städte Region Aachen laden lokale Vereine zu einem bunten Programm voller Bewegung und Begegnung ein – und das komplett kostenlos.Zahlreiche engagierte und qualifizierte Übungsleiterinnen und Übungsleiter freuen sich darauf\, mit euch gemeinsam aktiv zu werden und ihre Sportangebote vorzustellen. \nEgal ob sportlicher Neuling oder erfahrener Profi – mitmachen lohnt sich für alle! \n14.7. — 3.8. in Alsdorf\n11. — 24.8. in Baesweiler\n30.6. — 27.7. in Eschweiler\n30.6. — 27.7. in Herzogenrat\n23.6. — 11.7. in Stolberg\n7. — 20.7. in Würselen\nViel Spaß!
URL:https://www.sportwelt-rsb.de/event/sport-im-park-2025/
CATEGORIES:RSB
ATTACH;FMTTYPE=image/png:https://www.sportwelt-rsb.de/wp-content/uploads/2025/03/Sport-im-Park-Logo.png
END:VEVENT
BEGIN:VEVENT
DTSTART;VALUE=DATE:20250630
DTEND;VALUE=DATE:20250728
DTSTAMP:20260421T161005
CREATED:20250620T132616Z
LAST-MODIFIED:20250708T144610Z
UID:10000366-1751241600-1753660799@www.sportwelt-rsb.de
SUMMARY:Sport im Park Eschweiler
DESCRIPTION:Sport im Park ist zurück! \nAuf verschiedenen Plätzen und Grünflächen in Eschweiler laden lokale Vereine vom 30.6. — 27.7. zu einem bunten Programm voller Bewegung und Begegnung ein – und das komplett kostenlos.Zahlreiche engagierte und qualifizierte Übungsleiterinnen und Übungsleiter freuen sich darauf\, mit euch gemeinsam aktiv zu werden und ihre Sportangebote vorzustellen. \nEgal ob sportlicher Neuling oder erfahrener Profi – mitmachen lohnt sich für alle! \nViel Spaß!
URL:https://www.sportwelt-rsb.de/event/sportimpark2025-eschweiler/
CATEGORIES:Eschweiler
ATTACH;FMTTYPE=image/jpeg:https://www.sportwelt-rsb.de/wp-content/uploads/2025/06/shutterstock_1212249520.jpg
END:VEVENT
BEGIN:VEVENT
DTSTART;TZID=Europe/Berlin:20250630T190000
DTEND;TZID=Europe/Berlin:20250721T200000
DTSTAMP:20260421T161005
CREATED:20250527T110240Z
LAST-MODIFIED:20250627T095007Z
UID:10000327-1751310000-1753128000@www.sportwelt-rsb.de
SUMMARY:Aerobic
DESCRIPTION:Kursleitung: Claudia Böhn
URL:https://www.sportwelt-rsb.de/event/aerobic/2025-06-30/
LOCATION:Gerätepark „Am Weiher“\, Am Weiher\, Herzogenrath\, 52134
CATEGORIES:Sport im Park – Herzogenrath
ATTACH;FMTTYPE=image/jpeg:https://www.sportwelt-rsb.de/wp-content/uploads/2025/05/healthy-fitness-female-background-10.jpg
END:VEVENT
BEGIN:VEVENT
DTSTART;TZID=Europe/Berlin:20250701T170000
DTEND;TZID=Europe/Berlin:20250708T183000
DTSTAMP:20260421T161005
CREATED:20250527T104503Z
LAST-MODIFIED:20250716T182921Z
UID:10000324-1751389200-1751999400@www.sportwelt-rsb.de
SUMMARY:Boulen für Anfänger & Profis
DESCRIPTION:Kursleitung: Peter Servas  –   Boulle auf´m August
URL:https://www.sportwelt-rsb.de/event/boulen-fuer-anfaenger-profis/2025-07-01/2/
LOCATION:August-Schmidt-Platz\, August-Schmidt-Platz\, Herzogenrath\, nrw\, 52134
CATEGORIES:Sport im Park – Herzogenrath
ATTACH;FMTTYPE=image/jpeg:https://www.sportwelt-rsb.de/wp-content/uploads/2025/05/elderly-friends-playing-petanque-3.jpg
END:VEVENT
BEGIN:VEVENT
DTSTART;TZID=Europe/Berlin:20250704T090000
DTEND;TZID=Europe/Berlin:20250718T100000
DTSTAMP:20260421T161005
CREATED:20250527T110557Z
LAST-MODIFIED:20250729T103416Z
UID:10000292-1751619600-1752832800@www.sportwelt-rsb.de
SUMMARY:Yoga in Herzogenrath
DESCRIPTION:Kursleitung: Alice Schmidt
URL:https://www.sportwelt-rsb.de/event/yoga-in-herzogenrath/2025-07-04/
LOCATION:Kämpchenpark\, Kämpchenpark Kohlscheid\, Herzogenrath\, 52134
CATEGORIES:Sport im Park – Herzogenrath
ATTACH;FMTTYPE=image/jpeg:https://www.sportwelt-rsb.de/wp-content/uploads/2025/05/group-young-people-yoga-park-sunset.jpg
END:VEVENT
BEGIN:VEVENT
DTSTART;TZID=Europe/Berlin:20250707T090000
DTEND;TZID=Europe/Berlin:20250711T100000
DTSTAMP:20260421T161005
CREATED:20250624T100037Z
LAST-MODIFIED:20250729T103536Z
UID:10000369-1751878800-1752228000@www.sportwelt-rsb.de
SUMMARY:Yoga Mobility
DESCRIPTION:Kursleitung: Ulrike Wolff
URL:https://www.sportwelt-rsb.de/event/yoga-mobility-2/2025-07-07/
LOCATION:Grube-Adolf-Park Merkstein\, Grube-Adolf-Park Merkstein\, Herzogenrath\, 52134
CATEGORIES:Sport im Park – Herzogenrath
ATTACH;FMTTYPE=image/jpeg:https://www.sportwelt-rsb.de/wp-content/uploads/2025/05/woman-doing-stretching-exercises.jpg
END:VEVENT
BEGIN:VEVENT
DTSTART;TZID=Europe/Berlin:20250707T093000
DTEND;TZID=Europe/Berlin:20250707T103000
DTSTAMP:20260421T161005
CREATED:20250430T111352Z
LAST-MODIFIED:20250519T100522Z
UID:10000015-1751880600-1751884200@www.sportwelt-rsb.de
SUMMARY:Qigong - der sanfte Weg zur Gelassenheit
DESCRIPTION:Qigong ist\, einfach ausgedrückt\, eine Bewegungsmeditation\, die sich in China über Jahrtausende hinweg entwickelt hat und Teil der traditionellen chinesischen Medizin wurde. Hier werden sanfte Bewegungen\, Achtsamkeit und Atmung miteinander kombiniert\, um den Fluss der Lebensenergie anzuregen und Krankheiten vorzubeugen. \nIm alten China wurden die Ärzte des Kaisers nur solange bezahlt\, wie der Kaiser gesund war. Wurde er krank\, dann wurde dem Arzt kein Honorar gezahlt\, bis der Kaiser wieder gesund war. Es ging also vorrangig darum\, das Leben und die Gesundheit zu pflegen und zu erhalten.​ \n„Qi“ steht für Lebensenergie oder Lebenskraft und „Gong“ steht für Übungen\, somit bedeutet Qigong „Übungen für die Lebensenergie“.  Die Übungen bestehen aus langsamen\, aber dennoch kraftvollen Bewegungen\, die dabei helfen\, den Fluss der Lebensenergie zu verbessern und die Selbstheilungskräfte des Körpers anzuregen. \n​Qigong ist für alle Altersgruppen geeignet.
URL:https://www.sportwelt-rsb.de/event/qigong-der-sanfte-weg-zur-gelassenheit/2025-07-07/
LOCATION:Grillhütte Schwarzer Berg ( Zur Orientierung Parkplatz Jägerspfad)\, Wilhelminenstraße\, Eschweiler\, NRW\, 52249\, Germany
CATEGORIES:Sport im Park – Eschweiler
ATTACH;FMTTYPE=image/jpeg:https://www.sportwelt-rsb.de/wp-content/uploads/2025/04/getty-images-CJi34NbiSkc-unsplash.jpg
END:VEVENT
BEGIN:VEVENT
DTSTART;TZID=Europe/Berlin:20250707T100000
DTEND;TZID=Europe/Berlin:20250707T110000
DTSTAMP:20260421T161005
CREATED:20250520T123830Z
LAST-MODIFIED:20250611T090835Z
UID:10000244-1751882400-1751886000@www.sportwelt-rsb.de
SUMMARY:Seniorenfitness
DESCRIPTION:Fit und aktiv im besten Alter!\nDie Seniorenfitness bietet ein abwechslungsreiches Bewegungsprogramm zur Förderung von\nMobilität\, Kraft und Koordination – ganz ohne Leistungsdruck\, dafür mit viel Freude in der Gemeinschaft. \nKursleitung: Christina Coppeneur \nOrt: Wiese des SBZ – Eschweiler – Johanna-Neuman-Straße 4 \n 
URL:https://www.sportwelt-rsb.de/event/seniorenfitness/2025-07-07/
LOCATION:Johanna-Neuman-Straße 4\, Johanna-Neuman-Straße 4\, Eschweiler\, 52249
CATEGORIES:Sport im Park – Eschweiler
ATTACH;FMTTYPE=image/jpeg:https://www.sportwelt-rsb.de/wp-content/uploads/2025/05/RS54640_ABO_3032.jpg
ORGANIZER;CN="Regiosportbund Aachen":MAILTO:info@sportwelt-rsb.de
END:VEVENT
BEGIN:VEVENT
DTSTART;TZID=Europe/Berlin:20250707T103000
DTEND;TZID=Europe/Berlin:20250721T113000
DTSTAMP:20260421T161005
CREATED:20250527T105209Z
LAST-MODIFIED:20250702T142129Z
UID:10000283-1751884200-1753097400@www.sportwelt-rsb.de
SUMMARY:Pilates - Frisch und energievoll in den Tag
DESCRIPTION:Kursleitung: Birgit Offermanns
URL:https://www.sportwelt-rsb.de/event/pilates-frisch-und-energievoll-in-den-tag/2025-07-07/
LOCATION:Grube-Adolf-Park Merkstein\, Grube-Adolf-Park Merkstein\, Herzogenrath\, 52134
CATEGORIES:Sport im Park – Herzogenrath
ATTACH;FMTTYPE=image/jpeg:https://www.sportwelt-rsb.de/wp-content/uploads/2025/05/young-sportive-couple-doing-yoga-fitness-people-summer-park.jpg
END:VEVENT
BEGIN:VEVENT
DTSTART;TZID=Europe/Berlin:20250707T140000
DTEND;TZID=Europe/Berlin:20250707T170000
DTSTAMP:20260421T161005
CREATED:20250512T092851Z
LAST-MODIFIED:20250612T081550Z
UID:10000116-1751896800-1751907600@www.sportwelt-rsb.de
SUMMARY:Boule
DESCRIPTION:Wo: Grillhütte Dürwiss\, Am Bongert 996 in Eschweiler
URL:https://www.sportwelt-rsb.de/event/boule/2025-07-07/
LOCATION:Grillhütte Dürwiß\, Am Bongert 996\, Eschweiler\, 52249
CATEGORIES:Sport im Park – Eschweiler
ATTACH;FMTTYPE=image/jpeg:https://www.sportwelt-rsb.de/wp-content/uploads/2025/05/caroline-hernandez-2MGIwPHEFyY-unsplash-1.jpg
END:VEVENT
BEGIN:VEVENT
DTSTART;TZID=Europe/Berlin:20250707T150000
DTEND;TZID=Europe/Berlin:20250707T160000
DTSTAMP:20260421T161005
CREATED:20250520T123258Z
LAST-MODIFIED:20250611T090904Z
UID:10000248-1751900400-1751904000@www.sportwelt-rsb.de
SUMMARY:Kindertanzen ab 5 Jahren
DESCRIPTION:Spielerisch tanzen\, toben und lachen!\nBeim Kindertanzen ab 5 Jahren stehen Spaß an Bewegung\, Rhythmusgefühl und kreative Choreos im Mittelpunkt.\nGemeinsam entdecken wir Musik und Bewegung auf kinderleichte Art. \nKursleitung: Christina Coppeneur \n 
URL:https://www.sportwelt-rsb.de/event/kindertanzen-ab-5-jahren/2025-07-07/
LOCATION:Seebühne Blausteinsee
CATEGORIES:Sport im Park – Eschweiler
ATTACH;FMTTYPE=image/jpeg:https://www.sportwelt-rsb.de/wp-content/uploads/2025/05/kateryna-hliznitsova-eYBBTmOB6N0-unsplash.jpg
ORGANIZER;CN="Regiosportbund Aachen":MAILTO:info@sportwelt-rsb.de
END:VEVENT
BEGIN:VEVENT
DTSTART;TZID=Europe/Berlin:20250707T150000
DTEND;TZID=Europe/Berlin:20250707T170000
DTSTAMP:20260421T161005
CREATED:20250522T115217Z
LAST-MODIFIED:20250522T130431Z
UID:10000270-1751900400-1751907600@www.sportwelt-rsb.de
SUMMARY:Boule STK Stolberg
DESCRIPTION:Wo: Freizeitgelände der STG (Schlossberg 20) \nKursleitung: Elisabeth Gilliam \n  \n 
URL:https://www.sportwelt-rsb.de/event/boule-stk-stolberg/2025-07-07/
LOCATION:Freizeitgelände\, Schlossberg 20\, Stolberg\, 52222\, Germany
CATEGORIES:Sport im Park – Stolberg
ATTACH;FMTTYPE=image/jpeg:https://www.sportwelt-rsb.de/wp-content/uploads/2025/05/caroline-hernandez-2MGIwPHEFyY-unsplash.jpg
END:VEVENT
BEGIN:VEVENT
DTSTART;TZID=Europe/Berlin:20250707T180000
DTEND;TZID=Europe/Berlin:20250707T190000
DTSTAMP:20260421T161005
CREATED:20250520T104346Z
LAST-MODIFIED:20250610T075604Z
UID:10000238-1751911200-1751914800@www.sportwelt-rsb.de
SUMMARY:Tennis
DESCRIPTION:Wo:  Auf dem Vereinsgelände\, Breiniger Berg \nTrainer: Dennis Henke \nBei uns beim Sport im Park lernen die Teilnehner im Bezug auf Tennis die ersten wichtigen Basics bei den Schlägen wie z.B. Vorhand/Rückhand und Volleys\, Aufschlag. In 4er bis 6er Gruppen für jung und alt können die Teilnehmer schnuppern.\nWährend der Stunde werden auch die ersten leichten Übungen der Schläge geübt und vor allem Techniktraining und Beinarbeit.\nDie Stunde beinhaltet ebenso Konditionstraining.\nFür jeden etwas dabei. \n 
URL:https://www.sportwelt-rsb.de/event/tennis/2025-07-07/
LOCATION:Vereinsgeländer TC BW Stolberg\, Rüst 104\, Stolberg\, 52223
CATEGORIES:Sport im Park – Stolberg
ATTACH;FMTTYPE=image/jpeg:https://www.sportwelt-rsb.de/wp-content/uploads/2025/05/view-tennis-racket-hitting-ball-1.jpg
END:VEVENT
BEGIN:VEVENT
DTSTART;TZID=Europe/Berlin:20250707T183000
DTEND;TZID=Europe/Berlin:20250707T200000
DTSTAMP:20260421T161005
CREATED:20250512T093348Z
LAST-MODIFIED:20250715T062002Z
UID:10000135-1751913000-1751918400@www.sportwelt-rsb.de
SUMMARY:Paddeln im Drachenboot
DESCRIPTION:Aufgrund der hohen Nachfrage sind nur noch wenige Plätze am 21.07. frei.\nAlle anderen Termine sind ausgebucht. \nBei unserem Angebot handelt es sich um ein Schnupperpaddeln (lockere Trainingseinheit) von ca. 1-1\,5 Std. im 5-Bank-Drachenboot für mind. 8 und max 10 Personen am Blaustein-See. \nVorkenntnisse brauchen keine mitgebracht werden – Mitzubringen sind neben der entsprechenden Motivation und guten Laune noch lockere Sportkleidung (Ersatzklamotten nicht vergessen!) und wenn möglich\, Wasserschuhe (kein Muss)\, da wir zum Einstieg in´s Boot erst bis zu den Knien in´s Wasser müssen. Ebenso bei den möglichen Temperaturen bitte was zum trinken mitbringen (nur bitte keine Glasflasche!) und Sonnenschutz je nachdem nicht vergessen… \nTreffpunkt ist zwischen 18:20/18:30 Uhr am unteren Parkplatz am Blaustein-See (Zum Blaustein-See | 52249 Eschweiler)\, links vor den Containern auf der linken Seite (kurz vor der Tauchschule). Dort gibt es dann eine kurze Einführung und den gemeinschaftlichen Transport des Bootes zum See. \nSchwimmwesten sind vorhanden und können bei Bedarf genutzt werden. \nEine Anmeldung per Mail an kontakt@drachenboot-dueren.de ist bis Samstags Abends um 18 Uhr erforderlich – die TeilnehmerInnen erhalten dann eine entsprechende Bestätigung und auch Absage\, sofern sich nicht mind. 8 TeilnehmerInnen melden. \nWeitere Infos und Bilder findet man auch auf unserer Webseite unter https://www.drachenboot-dueren.de/drachenboot-training-am-blaustein-see/ \n 
URL:https://www.sportwelt-rsb.de/event/paddeln-im-drachenboot/2025-07-07/
LOCATION:Blausteinsee\, Eschweiler\, Germany
CATEGORIES:Sport im Park – Eschweiler
ATTACH;FMTTYPE=image/jpeg:https://www.sportwelt-rsb.de/wp-content/uploads/2025/05/Paddel-Chaos-Dueren-Drachenboot-Rursee-Cup-2023_052-1-1.jpg
END:VEVENT
BEGIN:VEVENT
DTSTART;TZID=Europe/Berlin:20250707T190000
DTEND;TZID=Europe/Berlin:20250707T200000
DTSTAMP:20260421T161005
CREATED:20250505T095441Z
LAST-MODIFIED:20250520T105739Z
UID:10000033-1751914800-1751918400@www.sportwelt-rsb.de
SUMMARY:Tennis
DESCRIPTION:Bei uns beim Sport im Park lernen die Teilnehmer im Bezug auf Tennis die ersten wichtigen Basics bei den Schlägen wie z.B. Vorhand/Rückhand und Volleys\, Aufschlag. In 4er bis 6er Gruppen für jung und alt können die Teilnehmer schnuppern.\nWährend der Stunde werden auch die ersten leichten Übungen der Schläge geübt und vor allem Techniktraining und Beinarbeit.\nDie Stunde beinhaltet ebenso Konditionstraining.\nFür jeden etwas dabei. \nTrainer: Dennis Henke
URL:https://www.sportwelt-rsb.de/event/tennis-2/2025-07-07/
LOCATION:Vereinsgeländer TC BW Stolberg\, Rüst 104\, Stolberg\, 52223
CATEGORIES:Sport im Park – Stolberg
ATTACH;FMTTYPE=image/jpeg:https://www.sportwelt-rsb.de/wp-content/uploads/2025/05/view-tennis-racket-hitting-ball.jpg
END:VEVENT
BEGIN:VEVENT
DTSTART;TZID=Europe/Berlin:20250707T191500
DTEND;TZID=Europe/Berlin:20250707T200000
DTSTAMP:20260421T161005
CREATED:20250509T105649Z
LAST-MODIFIED:20250707T075158Z
UID:10000088-1751915700-1751918400@www.sportwelt-rsb.de
SUMMARY:Zumba
DESCRIPTION:WICHTIG: Wegen des Wetters haben wir heute (07.07.) die Zumba Stunde in die Halle verlegt. Und zwar in die Halle der Regenbogenschule\, Stettinerstraße ( Parkplatz direkt vor der Turnhalle). Bitte klingeln. \nKursleitung: Stephanie Neumann
URL:https://www.sportwelt-rsb.de/event/zumba-4/2025-07-07/
LOCATION:Zinkhütter Hof\, Cockerillstraße 90\, Stolberg\, 52222
CATEGORIES:Sport im Park – Stolberg
ATTACH;FMTTYPE=image/jpeg:https://www.sportwelt-rsb.de/wp-content/uploads/2025/05/RS77336_IMG_3522-scr.jpg
END:VEVENT
END:VCALENDAR