BEGIN:VCALENDAR
VERSION:2.0
PRODID:-//Sportwelt - ECPv6.12.0.1//NONSGML v1.0//EN
CALSCALE:GREGORIAN
METHOD:PUBLISH
X-WR-CALNAME:Sportwelt
X-ORIGINAL-URL:https://www.sportwelt-rsb.de
X-WR-CALDESC:Veranstaltungen für Sportwelt
REFRESH-INTERVAL;VALUE=DURATION:PT1H
X-Robots-Tag:noindex
X-PUBLISHED-TTL:PT1H
BEGIN:VTIMEZONE
TZID:Europe/Berlin
BEGIN:DAYLIGHT
TZOFFSETFROM:+0100
TZOFFSETTO:+0200
TZNAME:CEST
DTSTART:20250330T010000
END:DAYLIGHT
BEGIN:STANDARD
TZOFFSETFROM:+0200
TZOFFSETTO:+0100
TZNAME:CET
DTSTART:20251026T010000
END:STANDARD
END:VTIMEZONE
BEGIN:VEVENT
DTSTART;TZID=Europe/Berlin:20250509T080000
DTEND;TZID=Europe/Berlin:20250509T170000
DTSTAMP:20260421T161458
CREATED:20250509T073833Z
LAST-MODIFIED:20250518T095027Z
UID:10000081-1746777600-1746810000@www.sportwelt-rsb.de
SUMMARY:Fußballturniere VfL Vichttal 08
DESCRIPTION:Hksp Sommercup            02.08.-16.082025 \nFranz Harpers Cup          22.08.-24.08.2025
URL:https://www.sportwelt-rsb.de/event/fussballturniere-vfl-vichttal-08/
CATEGORIES:Stolberg
ATTACH;FMTTYPE=image/jpeg:https://www.sportwelt-rsb.de/wp-content/uploads/2025/05/hal-gatewood-AzDHa9F9uBY-unsplash.jpg
END:VEVENT
END:VCALENDAR