BEGIN:VCALENDAR
VERSION:2.0
PRODID:-//Sportwelt - ECPv6.12.0.1//NONSGML v1.0//EN
CALSCALE:GREGORIAN
METHOD:PUBLISH
X-WR-CALNAME:Sportwelt
X-ORIGINAL-URL:https://www.sportwelt-rsb.de
X-WR-CALDESC:Veranstaltungen für Sportwelt
REFRESH-INTERVAL;VALUE=DURATION:PT1H
X-Robots-Tag:noindex
X-PUBLISHED-TTL:PT1H
BEGIN:VTIMEZONE
TZID:Europe/Berlin
BEGIN:DAYLIGHT
TZOFFSETFROM:+0100
TZOFFSETTO:+0200
TZNAME:CEST
DTSTART:20250330T010000
END:DAYLIGHT
BEGIN:STANDARD
TZOFFSETFROM:+0200
TZOFFSETTO:+0100
TZNAME:CET
DTSTART:20251026T010000
END:STANDARD
END:VTIMEZONE
BEGIN:VEVENT
DTSTART;TZID=Europe/Berlin:20250410T173000
DTEND;TZID=Europe/Berlin:20250410T173000
DTSTAMP:20260421T174506
CREATED:20250407T082749Z
LAST-MODIFIED:20250527T112750Z
UID:10000011-1744306200-1744306200@www.sportwelt-rsb.de
SUMMARY:Eröffnung der Sportabzeichensaison in Stolberg
DESCRIPTION:Komme und starte mit uns in den Frühling! \nAm Donnerstag den 10. April. 2025 STARTEN wir die Sportabzeichen-Saison 2025.\nAb 17:30 Uhr beginnen wir den Wettstreit mit dem Inneren SCHWEINEHUND! und den Pfunden.\nLasse dich für das Sportabzeichen 2025 von uns begeistern und komme zum Sportplatz Glashütter Weiher. \nNach kleinem Warm UP starten wir in den Disziplinen.
URL:https://www.sportwelt-rsb.de/event/eroeffnung-der-sportabzeichensaison-in-stolberg/
LOCATION:Sportplatz Glashütter Weiher\, Schafberg 4\, Stolberg\, 52223\, Germany
CATEGORIES:Stolberg
ATTACH;FMTTYPE=image/jpeg:https://www.sportwelt-rsb.de/wp-content/uploads/2024/07/shutterstock_1945473514.jpg
END:VEVENT
END:VCALENDAR