BEGIN:VCALENDAR
VERSION:2.0
PRODID:-//Sportwelt - ECPv6.12.0.1//NONSGML v1.0//EN
CALSCALE:GREGORIAN
METHOD:PUBLISH
X-WR-CALNAME:Sportwelt
X-ORIGINAL-URL:https://www.sportwelt-rsb.de
X-WR-CALDESC:Veranstaltungen für Sportwelt
REFRESH-INTERVAL;VALUE=DURATION:PT1H
X-Robots-Tag:noindex
X-PUBLISHED-TTL:PT1H
BEGIN:VTIMEZONE
TZID:Europe/Berlin
BEGIN:DAYLIGHT
TZOFFSETFROM:+0100
TZOFFSETTO:+0200
TZNAME:CEST
DTSTART:20250330T010000
END:DAYLIGHT
BEGIN:STANDARD
TZOFFSETFROM:+0200
TZOFFSETTO:+0100
TZNAME:CET
DTSTART:20251026T010000
END:STANDARD
END:VTIMEZONE
BEGIN:VEVENT
DTSTART;TZID=Europe/Berlin:20250724T180000
DTEND;TZID=Europe/Berlin:20250724T184500
DTSTAMP:20260420T185853
CREATED:20250506T061647Z
LAST-MODIFIED:20250522T121108Z
UID:10000073-1753380000-1753382700@www.sportwelt-rsb.de
SUMMARY:Zumba
DESCRIPTION:Wo. Wiese hinter dem KuBIZ  –  Annapark \nKursleitung: Patrycja Kunze   – \nSchnelle und langsame Rhythmen werden auf der Basis von Aerobics kombiniert\, um eine einzigartige Balance von Muskelaufbau und Konditionsverbesserung zu erreichen.
URL:https://www.sportwelt-rsb.de/event/zumba-3/2025-07-24/
LOCATION:Alsdorf Annapark (KuBiz)\, Konrad-Adenauer-Allee 1\, Alsdorf\, 52477
CATEGORIES:Sport im Park - Alsdorf
ATTACH;FMTTYPE=image/jpeg:https://www.sportwelt-rsb.de/wp-content/uploads/2025/05/RS77336_IMG_3522-scr.jpg
END:VEVENT
END:VCALENDAR