BEGIN:VCALENDAR
VERSION:2.0
PRODID:-//Sportwelt - ECPv6.12.0.1//NONSGML v1.0//EN
CALSCALE:GREGORIAN
METHOD:PUBLISH
X-WR-CALNAME:Sportwelt
X-ORIGINAL-URL:https://www.sportwelt-rsb.de
X-WR-CALDESC:Veranstaltungen für Sportwelt
REFRESH-INTERVAL;VALUE=DURATION:PT1H
X-Robots-Tag:noindex
X-PUBLISHED-TTL:PT1H
BEGIN:VTIMEZONE
TZID:Europe/Berlin
BEGIN:DAYLIGHT
TZOFFSETFROM:+0100
TZOFFSETTO:+0200
TZNAME:CEST
DTSTART:20250330T010000
END:DAYLIGHT
BEGIN:STANDARD
TZOFFSETFROM:+0200
TZOFFSETTO:+0100
TZNAME:CET
DTSTART:20251026T010000
END:STANDARD
END:VTIMEZONE
BEGIN:VEVENT
DTSTART;TZID=Europe/Berlin:20250704T183000
DTEND;TZID=Europe/Berlin:20250704T193000
DTSTAMP:20260421T080318
CREATED:20250505T100004Z
LAST-MODIFIED:20250519T100547Z
UID:10000038-1751653800-1751657400@www.sportwelt-rsb.de
SUMMARY:Zumba
DESCRIPTION:Schnelle und langsame Rhythmen werden auf der Basis von Aerobics kombiniert\, um eine einzigartige Balance von Muskelaufbau und Konditionsverbesserung zu erreichen.
URL:https://www.sportwelt-rsb.de/event/zumba-2/2025-07-04/
LOCATION:Zinkhütter Hof\, Cockerillstraße 90\, Stolberg\, 52222
CATEGORIES:Sport im Park – Stolberg
ATTACH;FMTTYPE=image/jpeg:https://www.sportwelt-rsb.de/wp-content/uploads/2025/05/RS77336_IMG_3522-scr-1.jpg
END:VEVENT
END:VCALENDAR