BEGIN:VCALENDAR
VERSION:2.0
PRODID:-//Sportwelt - ECPv6.12.0.1//NONSGML v1.0//EN
CALSCALE:GREGORIAN
METHOD:PUBLISH
X-WR-CALNAME:Sportwelt
X-ORIGINAL-URL:https://www.sportwelt-rsb.de
X-WR-CALDESC:Veranstaltungen für Sportwelt
REFRESH-INTERVAL;VALUE=DURATION:PT1H
X-Robots-Tag:noindex
X-PUBLISHED-TTL:PT1H
BEGIN:VTIMEZONE
TZID:Europe/Berlin
BEGIN:DAYLIGHT
TZOFFSETFROM:+0100
TZOFFSETTO:+0200
TZNAME:CEST
DTSTART:20250330T010000
END:DAYLIGHT
BEGIN:STANDARD
TZOFFSETFROM:+0200
TZOFFSETTO:+0100
TZNAME:CET
DTSTART:20251026T010000
END:STANDARD
END:VTIMEZONE
BEGIN:VEVENT
DTSTART;TZID=Europe/Berlin:20250705T100000
DTEND;TZID=Europe/Berlin:20250705T110000
DTSTAMP:20260421T012914
CREATED:20250605T104815Z
LAST-MODIFIED:20250605T104907Z
UID:12505-1751709600-1751713200@www.sportwelt-rsb.de
SUMMARY:Yoga  -  Easy Flow - auch für Einsteiger
DESCRIPTION:Kursleiter: Hugo Polz \nEasy-Flow-Yoga  sanfte Bewegungsabläufe\, die auch für Einsteiger geeignet sind. \n 
URL:https://www.sportwelt-rsb.de/event/yoga-easy-flow-auch-fuer-einsteiger/
LOCATION:Seebühne Blausteinsee
CATEGORIES:Sport im Park – Eschweiler
ATTACH;FMTTYPE=image/jpeg:https://www.sportwelt-rsb.de/wp-content/uploads/2025/05/young-woman-practicing-yoga-home.jpg
ORGANIZER;CN="Yoga-Coaches":MAILTO:info@yoga-coaches.de
END:VEVENT
END:VCALENDAR