BEGIN:VCALENDAR
VERSION:2.0
PRODID:-//Sportwelt - ECPv6.12.0.1//NONSGML v1.0//EN
CALSCALE:GREGORIAN
METHOD:PUBLISH
X-WR-CALNAME:Sportwelt
X-ORIGINAL-URL:https://www.sportwelt-rsb.de
X-WR-CALDESC:Veranstaltungen für Sportwelt
REFRESH-INTERVAL;VALUE=DURATION:PT1H
X-Robots-Tag:noindex
X-PUBLISHED-TTL:PT1H
BEGIN:VTIMEZONE
TZID:Europe/Berlin
BEGIN:DAYLIGHT
TZOFFSETFROM:+0100
TZOFFSETTO:+0200
TZNAME:CEST
DTSTART:20250330T010000
END:DAYLIGHT
BEGIN:STANDARD
TZOFFSETFROM:+0200
TZOFFSETTO:+0100
TZNAME:CET
DTSTART:20251026T010000
END:STANDARD
END:VTIMEZONE
BEGIN:VEVENT
DTSTART;TZID=Europe/Berlin:20250701T180000
DTEND;TZID=Europe/Berlin:20250701T193000
DTSTAMP:20260421T012618
CREATED:20250512T094304Z
LAST-MODIFIED:20250522T123721Z
UID:10000142-1751392800-1751398200@www.sportwelt-rsb.de
SUMMARY:Yoga
DESCRIPTION:Wo: Seebühne Blausteinsee     –\nKursleitung:  Sonia Gehlen     –\nGenieße sanfte\, aber kraftvolle Yoga-Übungen und fühle die frische Energie durch Atemübungen und Tiefenentspannung nach.
URL:https://www.sportwelt-rsb.de/event/yoga-3/2025-07-01/
LOCATION:Seebühne Blausteinsee
CATEGORIES:Sport im Park – Eschweiler
ATTACH;FMTTYPE=image/png:https://www.sportwelt-rsb.de/wp-content/uploads/2025/05/Yoga.png
END:VEVENT
END:VCALENDAR