BEGIN:VCALENDAR
VERSION:2.0
PRODID:-//Sportwelt - ECPv6.12.0.1//NONSGML v1.0//EN
CALSCALE:GREGORIAN
METHOD:PUBLISH
X-WR-CALNAME:Sportwelt
X-ORIGINAL-URL:https://www.sportwelt-rsb.de
X-WR-CALDESC:Veranstaltungen für Sportwelt
REFRESH-INTERVAL;VALUE=DURATION:PT1H
X-Robots-Tag:noindex
X-PUBLISHED-TTL:PT1H
BEGIN:VTIMEZONE
TZID:Europe/Berlin
BEGIN:DAYLIGHT
TZOFFSETFROM:+0100
TZOFFSETTO:+0200
TZNAME:CEST
DTSTART:20250330T010000
END:DAYLIGHT
BEGIN:STANDARD
TZOFFSETFROM:+0200
TZOFFSETTO:+0100
TZNAME:CET
DTSTART:20251026T010000
END:STANDARD
END:VTIMEZONE
BEGIN:VEVENT
DTSTART;TZID=Europe/Berlin:20250702T180000
DTEND;TZID=Europe/Berlin:20250702T190000
DTSTAMP:20260421T062518
CREATED:20250528T073054Z
LAST-MODIFIED:20250702T142116Z
UID:10000320-1751479200-1751482800@www.sportwelt-rsb.de
SUMMARY:Walking mit Hanteln
DESCRIPTION:Kursleitung: Jacqueline Kaiser  –     Hanteln werden gestellt\nWenn möglich bitte eigene Stöcke mitbringen \n 
URL:https://www.sportwelt-rsb.de/event/walking-mit-hanteln/2025-07-02/
LOCATION:Kämpchenpark\, Kämpchenpark Kohlscheid\, Herzogenrath\, 52134
CATEGORIES:Sport im Park – Herzogenrath
ATTACH;FMTTYPE=image/jpeg:https://www.sportwelt-rsb.de/wp-content/uploads/2025/05/close-up-man-exercising-outdoors.jpg
ORGANIZER;CN="Turngemeinde Kohlscheid":MAILTO:tgk1878@gmx.de
END:VEVENT
END:VCALENDAR