BEGIN:VCALENDAR
VERSION:2.0
PRODID:-//Sportwelt - ECPv6.12.0.1//NONSGML v1.0//EN
CALSCALE:GREGORIAN
METHOD:PUBLISH
X-WR-CALNAME:Sportwelt
X-ORIGINAL-URL:https://www.sportwelt-rsb.de
X-WR-CALDESC:Veranstaltungen für Sportwelt
REFRESH-INTERVAL;VALUE=DURATION:PT1H
X-Robots-Tag:noindex
X-PUBLISHED-TTL:PT1H
BEGIN:VTIMEZONE
TZID:Europe/Berlin
BEGIN:DAYLIGHT
TZOFFSETFROM:+0100
TZOFFSETTO:+0200
TZNAME:CEST
DTSTART:20250330T010000
END:DAYLIGHT
BEGIN:STANDARD
TZOFFSETFROM:+0200
TZOFFSETTO:+0100
TZNAME:CET
DTSTART:20251026T010000
END:STANDARD
END:VTIMEZONE
BEGIN:VEVENT
DTSTART;VALUE=DATE:20250630
DTEND;VALUE=DATE:20250728
DTSTAMP:20260420T101645
CREATED:20250620T132616Z
LAST-MODIFIED:20250708T144610Z
UID:12938-1751241600-1753660799@www.sportwelt-rsb.de
SUMMARY:Sport im Park Eschweiler
DESCRIPTION:Sport im Park ist zurück! \nAuf verschiedenen Plätzen und Grünflächen in Eschweiler laden lokale Vereine vom 30.6. — 27.7. zu einem bunten Programm voller Bewegung und Begegnung ein – und das komplett kostenlos.Zahlreiche engagierte und qualifizierte Übungsleiterinnen und Übungsleiter freuen sich darauf\, mit euch gemeinsam aktiv zu werden und ihre Sportangebote vorzustellen. \nEgal ob sportlicher Neuling oder erfahrener Profi – mitmachen lohnt sich für alle! \nViel Spaß!
URL:https://www.sportwelt-rsb.de/event/sportimpark2025-eschweiler/
CATEGORIES:Eschweiler
ATTACH;FMTTYPE=image/jpeg:https://www.sportwelt-rsb.de/wp-content/uploads/2025/06/shutterstock_1212249520.jpg
END:VEVENT
END:VCALENDAR