BEGIN:VCALENDAR
VERSION:2.0
PRODID:-//Sportwelt - ECPv6.12.0.1//NONSGML v1.0//EN
CALSCALE:GREGORIAN
METHOD:PUBLISH
X-WR-CALNAME:Sportwelt
X-ORIGINAL-URL:https://www.sportwelt-rsb.de
X-WR-CALDESC:Veranstaltungen für Sportwelt
REFRESH-INTERVAL;VALUE=DURATION:PT1H
X-Robots-Tag:noindex
X-PUBLISHED-TTL:PT1H
BEGIN:VTIMEZONE
TZID:Europe/Berlin
BEGIN:DAYLIGHT
TZOFFSETFROM:+0100
TZOFFSETTO:+0200
TZNAME:CEST
DTSTART:20250330T010000
END:DAYLIGHT
BEGIN:STANDARD
TZOFFSETFROM:+0200
TZOFFSETTO:+0100
TZNAME:CET
DTSTART:20251026T010000
END:STANDARD
END:VTIMEZONE
BEGIN:VEVENT
DTSTART;TZID=Europe/Berlin:20250620T080000
DTEND;TZID=Europe/Berlin:20250704T170000
DTSTAMP:20260420T114003
CREATED:20250620T155443Z
LAST-MODIFIED:20250621T084907Z
UID:12944-1750406400-1751648400@www.sportwelt-rsb.de
SUMMARY:Sportabzeichentag am 04.07. in Dürwiß
DESCRIPTION:Offener Sportabzeichentag 2025 beim SV Germania Dürwiß \nAm Freitag\, den 04. Juli 2025\, lädt der SV Germania Dürwiß e.V. – Abteilung Leichtathletik – alle Sportbegeisterten zum offenen Sportabzeichentag 2025 auf die Großsportanlage am Blausteinsee (Jülicher Str. 270\, 52249 Eschweiler) ein. Los geht’s ab 16:30 Uhr. \nTeilnehmen können Kinder ab 6 Jahren\, Jugendliche\, Erwachsene sowie im Sinne der Integration und Inklusion auch Geflüchtete\, Asylsuchende und Menschen mit Behinderung. Ausgebildete Trainer stehen zur Hilfestellung gerne bereit. \nJe nach Wetterlage ist auch das angrenzende Freibad geöffnet – dort kann die Schwimmdisziplin für das Deutsche Sportabzeichen abgelegt werden. Bitte entsprechende Schwimmsachen nicht vergessen. \nWeitere Informationen zur Veranstaltung und zur Anmeldung finden Sie in der offiziellen Ausschreibung:Hier geht’s zur Ausschreibung (PDF) \nDer SV Germania Dürwiß freut sich auf zahlreiche Teilnehmerinnen und Teilnehmer!
URL:https://www.sportwelt-rsb.de/event/sportabzeichentag-am-04-07-in-duerwiss/
CATEGORIES:Eschweiler,RSB
ATTACH;FMTTYPE=image/jpeg:https://www.sportwelt-rsb.de/wp-content/uploads/2024/07/close-up-women-team-holding-cup.jpg
END:VEVENT
END:VCALENDAR