BEGIN:VCALENDAR
VERSION:2.0
PRODID:-//Sportwelt - ECPv6.12.0.1//NONSGML v1.0//EN
CALSCALE:GREGORIAN
METHOD:PUBLISH
X-WR-CALNAME:Sportwelt
X-ORIGINAL-URL:https://www.sportwelt-rsb.de
X-WR-CALDESC:Veranstaltungen für Sportwelt
REFRESH-INTERVAL;VALUE=DURATION:PT1H
X-Robots-Tag:noindex
X-PUBLISHED-TTL:PT1H
BEGIN:VTIMEZONE
TZID:Europe/Berlin
BEGIN:DAYLIGHT
TZOFFSETFROM:+0100
TZOFFSETTO:+0200
TZNAME:CEST
DTSTART:20250330T010000
END:DAYLIGHT
BEGIN:STANDARD
TZOFFSETFROM:+0200
TZOFFSETTO:+0100
TZNAME:CET
DTSTART:20251026T010000
END:STANDARD
END:VTIMEZONE
BEGIN:VEVENT
DTSTART;TZID=Europe/Berlin:20250706T130000
DTEND;TZID=Europe/Berlin:20250706T150000
DTSTAMP:20260421T084022
CREATED:20250509T110243Z
LAST-MODIFIED:20250521T091953Z
UID:10000093-1751806800-1751814000@www.sportwelt-rsb.de
SUMMARY:Beachvolleyball
DESCRIPTION:Kursleitung: \nAlicia Jablonska\nAnnalena Breyer
URL:https://www.sportwelt-rsb.de/event/beachvolleyball/2025-07-06/
LOCATION:Sportplatz Glashütter Weiher\, Schafberg 4\, Stolberg\, 52223\, Germany
CATEGORIES:Sport im Park – Stolberg
ATTACH;FMTTYPE=image/jpeg:https://www.sportwelt-rsb.de/wp-content/uploads/2025/05/miguel-teirlinck-VDkRsT649C0-unsplash-1.jpg
END:VEVENT
END:VCALENDAR